BEGIN:VCALENDAR
VERSION:2.0
PRODID:-//Gobernación de Itapúa - ECPv6.15.20//NONSGML v1.0//EN
CALSCALE:GREGORIAN
METHOD:PUBLISH
X-WR-CALNAME:Gobernación de Itapúa
X-ORIGINAL-URL:https://itapua.gov.py
X-WR-CALDESC:Eventos para Gobernación de Itapúa
REFRESH-INTERVAL;VALUE=DURATION:PT1H
X-Robots-Tag:noindex
X-PUBLISHED-TTL:PT1H
BEGIN:VTIMEZONE
TZID:UTC
BEGIN:STANDARD
TZOFFSETFROM:+0000
TZOFFSETTO:+0000
TZNAME:UTC
DTSTART:20240101T000000
END:STANDARD
END:VTIMEZONE
BEGIN:VEVENT
DTSTART;TZID=UTC:20251224T210000
DTEND;TZID=UTC:20251224T210000
DTSTAMP:20260422T044733
CREATED:20251203T140655Z
LAST-MODIFIED:20251203T140727Z
UID:33238-1766610000-1766610000@itapua.gov.py
SUMMARY:NOCHE BUENA 2025  EN PAPILLÓN CON EL GRUPO MADRIGAL
DESCRIPTION:Pasa la navidad en Papillón\, con tus seres queridos rodeado de un ambiente navideño único\, buena música y gastronomía variada \nReservas y consultas\nTeléfono:  0985 784 486\nSera una noche inolvidable con familiares y amistades.
URL:https://itapua.gov.py/evento/noche-buena-2025-en-papillon-con-el-grupo-madrigal/
LOCATION:Hotel y Churrasqueria Papillón\, Ruta Py 06 Km.50\, Bella Vista\, 6310\, Paraguay
CATEGORIES:Bella Vista,Turismo
ATTACH;FMTTYPE=image/jpeg:https://itapua.gov.py/wp-content/uploads/2025/12/Papi590237714_1303994565102546_5869024727054383556_n-e1764770759126.jpg
END:VEVENT
END:VCALENDAR