BEGIN:VCALENDAR
VERSION:2.0
PRODID:-//Gobernación de Itapúa - ECPv6.15.20//NONSGML v1.0//EN
CALSCALE:GREGORIAN
METHOD:PUBLISH
X-WR-CALNAME:Gobernación de Itapúa
X-ORIGINAL-URL:https://itapua.gov.py
X-WR-CALDESC:Eventos para Gobernación de Itapúa
REFRESH-INTERVAL;VALUE=DURATION:PT1H
X-Robots-Tag:noindex
X-PUBLISHED-TTL:PT1H
BEGIN:VTIMEZONE
TZID:UTC
BEGIN:STANDARD
TZOFFSETFROM:+0000
TZOFFSETTO:+0000
TZNAME:UTC
DTSTART:20250101T000000
END:STANDARD
END:VTIMEZONE
BEGIN:VEVENT
DTSTART;TZID=UTC:20260120T000000
DTEND;TZID=UTC:20260129T000000
DTSTAMP:20260422T031440
CREATED:20260120T134756Z
LAST-MODIFIED:20260120T134756Z
UID:33917-1768867200-1769644800@itapua.gov.py
SUMMARY:CLASES DE NATACIÓN 2026
DESCRIPTION:En Encanto Rural te esperamos\, no te pierda esta oportunidad \nvolvemos con las clases de natación en ENERO ¡Los cupos son limitados\, reserva tu lugar! Contactos 0985 510510 Bella Vista Sur\, Itapúa \nHorario a confirmar!!
URL:https://itapua.gov.py/evento/clases-de-natacion-2026/
LOCATION:Hotel y Restauran Papillón\, Ruta Py 06 Km.48\, 6310\, Paraguay
CATEGORIES:Bella Vista,Turismo
ATTACH;FMTTYPE=image/jpeg:https://itapua.gov.py/wp-content/uploads/2026/01/ENC609009461_18440669761100947_62474837274812557_n-e1768916775767.jpg
END:VEVENT
BEGIN:VEVENT
DTSTART;TZID=UTC:20260123T080000
DTEND;TZID=UTC:20260125T170000
DTSTAMP:20260422T031440
CREATED:20260121T173834Z
LAST-MODIFIED:20260121T175644Z
UID:33953-1769155200-1769360400@itapua.gov.py
SUMMARY:TU MEJOR PLAN DE FIN DE SEMANA- SHW EN VIVO
DESCRIPTION:23 de enero 2026 de desde las 19:00 hs\, cLASICO 8O&9O \n24 de enero 2026 desde las 20:00 hs\, \n25 de enero 2026 a partir de las 12:00 hs.
URL:https://itapua.gov.py/evento/tu-mejor-plan-de-fin-de-semana-shw-en-vivo/
LOCATION:Hotel y Restauran Papillón\, Ruta Py 06 Km.48\, 6310\, Paraguay
CATEGORIES:Bella Vista,Turismo
ATTACH;FMTTYPE=image/jpeg:https://itapua.gov.py/wp-content/uploads/2026/01/papi618091438_1345682704267065_1531318854492559401_n-e1769016222228.jpg
END:VEVENT
END:VCALENDAR