BEGIN:VCALENDAR
VERSION:2.0
PRODID:-//Gobernación de Itapúa - ECPv6.15.20//NONSGML v1.0//EN
CALSCALE:GREGORIAN
METHOD:PUBLISH
X-WR-CALNAME:Gobernación de Itapúa
X-ORIGINAL-URL:https://itapua.gov.py
X-WR-CALDESC:Eventos para Gobernación de Itapúa
REFRESH-INTERVAL;VALUE=DURATION:PT1H
X-Robots-Tag:noindex
X-PUBLISHED-TTL:PT1H
BEGIN:VTIMEZONE
TZID:UTC
BEGIN:STANDARD
TZOFFSETFROM:+0000
TZOFFSETTO:+0000
TZNAME:UTC
DTSTART:20250101T000000
END:STANDARD
END:VTIMEZONE
BEGIN:VEVENT
DTSTART;TZID=UTC:20260130T200000
DTEND;TZID=UTC:20260130T233000
DTSTAMP:20260422T014215
CREATED:20260129T123649Z
LAST-MODIFIED:20260129T123706Z
UID:34081-1769803200-1769815800@itapua.gov.py
SUMMARY:SHOW EN VIVO CON GRUPOS NACIONALES Y ARGENTINOS
DESCRIPTION:Plan perfecto de fin de semana activado \n Buffet variado\n Barra de tragos\n Música en vivo\n\n\n Papillón Hotel Restaurant – Bella Vista\n Reservas al +595 985 784 846
URL:https://itapua.gov.py/evento/show-en-vivo-con-grupos-nacionales-y-argentinos/
LOCATION:Hotel y Restauran Papillón\, Ruta Py 06 Km.48\, 6310\, Paraguay
CATEGORIES:Bella Vista,Turismo
ATTACH;FMTTYPE=image/jpeg:https://itapua.gov.py/wp-content/uploads/2026/01/PAPI622827075_1351976556971013_4410743644019647460_n.jpg
END:VEVENT
END:VCALENDAR