BEGIN:VCALENDAR
VERSION:2.0
PRODID:-//Gobernación de Itapúa - ECPv6.15.20//NONSGML v1.0//EN
CALSCALE:GREGORIAN
METHOD:PUBLISH
X-WR-CALNAME:Gobernación de Itapúa
X-ORIGINAL-URL:https://itapua.gov.py
X-WR-CALDESC:Eventos para Gobernación de Itapúa
REFRESH-INTERVAL;VALUE=DURATION:PT1H
X-Robots-Tag:noindex
X-PUBLISHED-TTL:PT1H
BEGIN:VTIMEZONE
TZID:UTC
BEGIN:STANDARD
TZOFFSETFROM:+0000
TZOFFSETTO:+0000
TZNAME:UTC
DTSTART:20250101T000000
END:STANDARD
END:VTIMEZONE
BEGIN:VEVENT
DTSTART;TZID=UTC:20260213T200000
DTEND;TZID=UTC:20260215T233000
DTSTAMP:20260422T014252
CREATED:20260129T154445Z
LAST-MODIFIED:20260129T154445Z
UID:34094-1771012800-1771198200@itapua.gov.py
SUMMARY:CENA SHOW EN PAPILLÓN
DESCRIPTION:Estaremos deleitando con DJ Lucho Ramos y Hugo Benítez y otros \nUna noche\, música\, gastronomía y alguien especial \nCelebramos el amor con experiencias que harán de tu velada especial y única \n San Valentín en Papillón \nConsultas y reservas al +595 985 784 846\n 
URL:https://itapua.gov.py/evento/cena-show-en-papillon/
LOCATION:Hotel y Restauran Papillón\, Ruta Py 06 Km.48\, 6310\, Paraguay
CATEGORIES:Bella Vista,Turismo
ATTACH;FMTTYPE=image/jpeg:https://itapua.gov.py/wp-content/uploads/2026/01/PapiII622874381_1351987113636624_3028705980783907697_n-e1769698499745.jpg
END:VEVENT
BEGIN:VEVENT
DTSTART;TZID=UTC:20260214T200000
DTEND;TZID=UTC:20260214T200000
DTSTAMP:20260422T014252
CREATED:20260122T164505Z
LAST-MODIFIED:20260122T164541Z
UID:34006-1771099200-1771099200@itapua.gov.py
SUMMARY:CENA BAJO LAS ESTRELLAS EN EL CLUB DE CASA Y PESCA
DESCRIPTION:El Club de Casa y Pesca te espera a disfrutar de una cena Show \nfestejando el día de San Valentín \n\nEste 14 de febrero\, el amor tiene su propia cita bajo las estrellas \n\n\nUna noche pensada para compartir miradas\, brindar sin apuros y crear recuerdos que quedan para siempre. \n\n\n Cena bajo las estrellas\n Gastronomía especial\n Música en vivo\n Ambiente mágico junto al río\n\n\nY porque el amor también se celebra con sorpresas… \n\n\n Participá del sorteo especial de San Valentín\n 1 noche para 2 personas en la Casa Alpina\nVales de consumición en el Restaurant Club\n Entrada gratuita al club por 1 mes para 2 personas\n\n\nDesliza el carrusel y descubrí todo lo que incluye cada sector \n\n\n Cupos limitados — reserva con anticipación y viví una noche única.
URL:https://itapua.gov.py/evento/cena-bajo-las-estrellas-en-el-club-de-casa-y-pesca/
LOCATION:CLUB de Casa y Pesca\, Zona Unión y Fordi\, Bella Vista\, 6310\, Paraguay
CATEGORIES:Bella Vista,Turismo
ATTACH;FMTTYPE=image/jpeg:https://itapua.gov.py/wp-content/uploads/2026/01/PESC621206372_1404588041452791_4581396114127008451_n-e1769100242944.jpg
END:VEVENT
END:VCALENDAR