BEGIN:VCALENDAR
VERSION:2.0
PRODID:-//Gobernación de Itapúa - ECPv6.15.20//NONSGML v1.0//EN
CALSCALE:GREGORIAN
METHOD:PUBLISH
X-WR-CALNAME:Gobernación de Itapúa
X-ORIGINAL-URL:https://itapua.gov.py
X-WR-CALDESC:Eventos para Gobernación de Itapúa
REFRESH-INTERVAL;VALUE=DURATION:PT1H
X-Robots-Tag:noindex
X-PUBLISHED-TTL:PT1H
BEGIN:VTIMEZONE
TZID:UTC
BEGIN:STANDARD
TZOFFSETFROM:+0000
TZOFFSETTO:+0000
TZNAME:UTC
DTSTART:20250101T000000
END:STANDARD
END:VTIMEZONE
BEGIN:VEVENT
DTSTART;TZID=UTC:20260218T070000
DTEND;TZID=UTC:20260227T120000
DTSTAMP:20260422T014249
CREATED:20260217T125654Z
LAST-MODIFIED:20260217T125654Z
UID:34513-1771398000-1772193600@itapua.gov.py
SUMMARY:ESCUELA MUNICIPAL DE ARTE AVISA LAS INSCRIPCIONES ABIERTAS 2026
DESCRIPTION:La 𝐄𝐬𝐜𝐮𝐞𝐥𝐚 𝐌𝐮𝐧𝐢𝐜𝐢𝐩𝐚𝐥 𝐝𝐞 𝐀𝐫𝐭𝐞 𝐝𝐞 𝐁𝐞𝐥𝐥𝐚 𝐕𝐢𝐬𝐭𝐚. \n\n\nLa Escuela Municipal de Arte invita a niños\, jóvenes y adultos a sumarse a las distintas disciplinas artísticas habilitadas. Las clases iniciarán en el mes de marzo y las inscripciones ya se encuentran abiertas. Los interesados pueden acercarse o comunicarse directamente con los profesores.\n\n\n Academia de Danzas y Ballet Municipal\nProf. Liz Valdez – 0985 475 651\n Orquesta Municipal\nProf. Anali Gallas – 0985 118 811\n Clases de Violín\nProf. Mateo Franco – 0972 883 230\n Clases de Guitarra Popular\nElder Britez – 0982 689 837\n Clases de Acordeón\nProf. Enrique Gamarra – 0994 855 547\n\n\n Secretaría de Cultura – Municipalidad de Bella Vista\nAlejo Centurión\n Atención: lunes a viernes | 07:00 a 12:00 horas\n\n\n ¡Viví el arte\, desarrolla tu talento y forma parte de nuestra cultura!\n\n\nInicio de Clases: 07 de marzo 2026          Hora: 15:00 horas
URL:https://itapua.gov.py/evento/escuela-municipal-de-arte-avisa-las-inscripciones-abiertas-2026/
LOCATION:Escuela Municipal de Arte\, Avda. Marcial Samaniego.\, Bella Vista\, 6310\, Paraguay
CATEGORIES:Bella Vista,Turismo
ATTACH;FMTTYPE=image/jpeg:https://itapua.gov.py/wp-content/uploads/2026/02/Be638023630_1360506649449120_8759337337544874648_n-e1771332980178.jpg
END:VEVENT
END:VCALENDAR