BEGIN:VCALENDAR
VERSION:2.0
PRODID:-//Gobernación de Itapúa - ECPv6.15.20//NONSGML v1.0//EN
CALSCALE:GREGORIAN
METHOD:PUBLISH
X-ORIGINAL-URL:https://itapua.gov.py
X-WR-CALDESC:Eventos para Gobernación de Itapúa
REFRESH-INTERVAL;VALUE=DURATION:PT1H
X-Robots-Tag:noindex
X-PUBLISHED-TTL:PT1H
BEGIN:VTIMEZONE
TZID:UTC
BEGIN:STANDARD
TZOFFSETFROM:+0000
TZOFFSETTO:+0000
TZNAME:UTC
DTSTART:20250101T000000
END:STANDARD
END:VTIMEZONE
BEGIN:VEVENT
DTSTART;TZID=UTC:20260227T190000
DTEND;TZID=UTC:20260301T233000
DTSTAMP:20260421T225204
CREATED:20260226T180022Z
LAST-MODIFIED:20260226T180022Z
UID:34800-1772218800-1772407800@itapua.gov.py
SUMMARY:SHOW EN VIVO CON EL GRUPO MADRIGAL Y LUCHO RAMOS
DESCRIPTION:En el Hotel Papillón los Carnavales continua\, no faltes. \n27/02/2026 con Lucho Ramos a partir de las 19:oo horas \n28/02/2026 con el Grupo Madrigal desde las 20:00 horas \n01/03/2028 nuevamente con el Grupo Madrigal a partir de las 12:00 horas
URL:https://itapua.gov.py/evento/show-en-vivo-con-el-grupo-madrigal-y-lucho-ramos/
LOCATION:Hotel y Restauran Papillón\, Ruta Py 06 Km.48\, 6310\, Paraguay
CATEGORIES:Bella Vista,Turismo
ATTACH;FMTTYPE=image/jpeg:https://itapua.gov.py/wp-content/uploads/2026/02/papi641787259_18567239887033491_1585535468763058377_n-e1772127972123.jpg
END:VEVENT
BEGIN:VEVENT
DTSTART;TZID=UTC:20260228T183000
DTEND;TZID=UTC:20260228T183000
DTSTAMP:20260421T225204
CREATED:20260123T140532Z
LAST-MODIFIED:20260123T140543Z
UID:34015-1772303400-1772303400@itapua.gov.py
SUMMARY:LA FIESTA DE EL RETROVISOR LLEGARA AL TERERE FEST. 2026
DESCRIPTION:La conducción estará a cargo de Marilé Unger\, acompañada de invitados especiales\, en una tarde que comenzará a las 18:00 horas\, con música en vivo\, tereré\, tragos innovadores a base de yerba mate y muchas sorpresas más. \nLas entradas anticipadas tendrán un costo de Gs. 25.000\, más 1 alimento no perecedero\, que será destinado a entidades benéficas de la comunidad. El día del evento\, el acceso tendrá un costo de Gs. 30.000. \nPuntos de venta: Oficina de Yerba Mate Pajarito (Asunción y Bella Vista)\, Club de Caza y Pesca de Bella Vista\, Estaciones Shell Bella Vista y Hohenau\, Estación Copetrol Bella Vista. \nTe esperamos te queremos ver ahí no faltes !!!
URL:https://itapua.gov.py/evento/la-fiesta-de-el-retrovisor-llegara-al-terere-fest-2026/
LOCATION:Club de Casa y Pesca de Bella Vista\, Zona Unión y Fordi\, Bella Vista\, 6310\, Paraguay
CATEGORIES:Bella Vista,Turismo
ATTACH;FMTTYPE=image/jpeg:https://itapua.gov.py/wp-content/uploads/2026/01/GAANestorLo3-1024x674-1-e1769176752437.jpg
END:VEVENT
END:VCALENDAR