BEGIN:VCALENDAR
VERSION:2.0
PRODID:-//Gobernación de Itapúa - ECPv6.15.20//NONSGML v1.0//EN
CALSCALE:GREGORIAN
METHOD:PUBLISH
X-ORIGINAL-URL:https://itapua.gov.py
X-WR-CALDESC:Eventos para Gobernación de Itapúa
REFRESH-INTERVAL;VALUE=DURATION:PT1H
X-Robots-Tag:noindex
X-PUBLISHED-TTL:PT1H
BEGIN:VTIMEZONE
TZID:UTC
BEGIN:STANDARD
TZOFFSETFROM:+0000
TZOFFSETTO:+0000
TZNAME:UTC
DTSTART:20250101T000000
END:STANDARD
END:VTIMEZONE
BEGIN:VEVENT
DTSTART;TZID=UTC:20260322T080000
DTEND;TZID=UTC:20260322T113000
DTSTAMP:20260421T050340
CREATED:20260318T170706Z
LAST-MODIFIED:20260318T170706Z
UID:35059-1774166400-1774179000@itapua.gov.py
SUMMARY:KARTING CLUB COLONIAS UNIDAS
DESCRIPTION:¡Ven a vivir la emoción del automovilismo en estado puro! Arranca el campeonato y nadie quiere quedarse atrás. ¡Te esperamos para rugir los motores! \nFecha:Domingo 22 de Marzo\nHora de Inicio: A partir de las 08:00 horas\nLugar: Kartódromo Colonias Unidas – Bella Vista\nSíguenos en nuestras redes: Karting Club Colonias Unidas
URL:https://itapua.gov.py/evento/karting-club-colonias-unidas/
LOCATION:Kartódromo C. Unidas\, Av. Marcial Samaniego.\, Bella Vista\, 6360\, Paraguay
CATEGORIES:Bella Vista,Turismo
ATTACH;FMTTYPE=image/jpeg:https://itapua.gov.py/wp-content/uploads/2026/03/Karto653924993_122252379950061017_1357207964136033615_n-e1773853583247.jpg
END:VEVENT
END:VCALENDAR