BEGIN:VCALENDAR
VERSION:2.0
PRODID:-//Gobernación de Itapúa - ECPv6.15.20//NONSGML v1.0//EN
CALSCALE:GREGORIAN
METHOD:PUBLISH
X-WR-CALNAME:Gobernación de Itapúa
X-ORIGINAL-URL:https://itapua.gov.py
X-WR-CALDESC:Eventos para Gobernación de Itapúa
REFRESH-INTERVAL;VALUE=DURATION:PT1H
X-Robots-Tag:noindex
X-PUBLISHED-TTL:PT1H
BEGIN:VTIMEZONE
TZID:UTC
BEGIN:STANDARD
TZOFFSETFROM:+0000
TZOFFSETTO:+0000
TZNAME:UTC
DTSTART:20230101T000000
END:STANDARD
END:VTIMEZONE
BEGIN:VEVENT
DTSTART;TZID=UTC:20240921T000000
DTEND;TZID=UTC:20240921T000000
DTSTAMP:20260421T084935
CREATED:20240910T174712Z
LAST-MODIFIED:20240910T174712Z
UID:18409-1726876800-1726876800@itapua.gov.py
SUMMARY:CONCURSO FOTOGRAFICO "UN ÁRBOL\, UNA HISTORIA"
DESCRIPTION:Concurso Fotográfico «Un árbol\, una historia» \n¿Has plantado un árbol o alguien en tu familia lo ha hecho? 🌱 ¡Queremos conocer la historia detrás de ese árbol especial! Cuéntanos por qué es importante: su valor sentimental\, los años que lleva creciendo o su imponente tamaño. \nParticipa\n1️⃣ Envía tu foto a las redes sociales de la Municipalidad de Carmen del Paraná.\n2️⃣ Etiqueta a tus amigos.\n3️⃣ La imagen más compartida será la ganadora. \n– Cierre: Viernes 20/09/2024.\n– Premiación: Sábado 21/09/2024. \nMás info: Lic. Nancy Smolinski – 📞 (0983) 741 662. \n¡No pierdas la oportunidad de compartir tu historia y ganar! 🌿 \n#ConcursoFotográfico #UnÁrbolUnaHistoria #CarmenDelParaná
URL:https://itapua.gov.py/evento/concurso-fotografico-un-arbol-una-historia/
LOCATION:Municipalidad de Carmen del Paraná\, Av. Costanera de Carmen del Paraná\, Carmen del Paraná\, 6960\, Paraguay
CATEGORIES:Carmen del Paraná,Turismo
ATTACH;FMTTYPE=image/jpeg:https://itapua.gov.py/wp-content/uploads/2024/09/ARB61d11e29-a023-477a-b455-e8b43db22688-e1725990365410.jpg
END:VEVENT
BEGIN:VEVENT
DTSTART;TZID=UTC:20240921T200000
DTEND;TZID=UTC:20240921T233000
DTSTAMP:20260421T084935
CREATED:20240913T190408Z
LAST-MODIFIED:20240913T190408Z
UID:18454-1726948800-1726961400@itapua.gov.py
SUMMARY:VEN A DISFRUTAR ELECCIÓN DE MIS PRIMAVERA!!
DESCRIPTION: ¡Sé parte del gran festejo de la primavera y la juventud! ¿Tienes lo que se necesita para ser la nueva Miss Primavera y Miss Juventud 2024? ¡Inscríbete con nosotros!  Sábado 21 de septiembre Plaza Tacuary 20:00 horasPara más información o inscripciones\, contacta a la  Lic. Nancy Smolinski al 0983 741 662 – Secretaria de Turismo
URL:https://itapua.gov.py/evento/ven-a-disfrutar-eleccion-de-mis-primavera/
LOCATION:Plaza Tacuary\, 15 de Agosto C. del Paraná\, C armen del Paraná\, Paraguay
CATEGORIES:Carmen del Paraná,Turismo
ATTACH;FMTTYPE=image/jpeg:https://itapua.gov.py/wp-content/uploads/2024/09/car459325565_845401311109382_8552775578424029768_n-e1726254235315.jpg
END:VEVENT
BEGIN:VEVENT
DTSTART;TZID=UTC:20240923T000000
DTEND;TZID=UTC:20240923T000000
DTSTAMP:20260421T084935
CREATED:20240924T160121Z
LAST-MODIFIED:20240924T160121Z
UID:18866-1727049600-1727049600@itapua.gov.py
SUMMARY:CHARLAS EDUCATIVAS EN ITAPÚA "EL JUEZ QUE YO QUIERO"
DESCRIPTION:Charlas Educativas en Itapúa: «El Juez que Yo Quiero» \nLa Corte Suprema de Justicia invita a toda la comunidad de Carmen del Paraná a participar de la charlas educativa; “El Juez que yo quiero”\, con el objetivo de acercar el servicio de justicia al sector educativo. \n23 de septiembre – 15:30 horas.\nSalón Municipal. \n¡Te esperamos para construir juntos una justicia más accesible y cercana!
URL:https://itapua.gov.py/evento/charlas-educativas-en-itapua-el-juez-que-yo-quiero/
LOCATION:Salón Municipal\, Ruta Py 06 Km.45\, Bella Vista\, 6310
CATEGORIES:Carmen del Paraná,Turismo
ATTACH;FMTTYPE=image/jpeg:https://itapua.gov.py/wp-content/uploads/2024/09/Charlaa5f351b0-e3a7-49c2-86c7-8e88e4a48193-e1727193461833.jpg
END:VEVENT
END:VCALENDAR