BEGIN:VCALENDAR
VERSION:2.0
PRODID:-//Gobernación de Itapúa - ECPv6.15.20//NONSGML v1.0//EN
CALSCALE:GREGORIAN
METHOD:PUBLISH
X-ORIGINAL-URL:https://itapua.gov.py
X-WR-CALDESC:Eventos para Gobernación de Itapúa
REFRESH-INTERVAL;VALUE=DURATION:PT1H
X-Robots-Tag:noindex
X-PUBLISHED-TTL:PT1H
BEGIN:VTIMEZONE
TZID:UTC
BEGIN:STANDARD
TZOFFSETFROM:+0000
TZOFFSETTO:+0000
TZNAME:UTC
DTSTART:20230101T000000
END:STANDARD
END:VTIMEZONE
BEGIN:VEVENT
DTSTART;TZID=UTC:20241006T100000
DTEND;TZID=UTC:20241006T170000
DTSTAMP:20260419T192654
CREATED:20241004T175037Z
LAST-MODIFIED:20241004T190756Z
UID:19001-1728208800-1728234000@itapua.gov.py
SUMMARY:Gran Fiesta Patronal!!
DESCRIPTION:Cordialmente invitados a compartir con nosotros a la Gran Fiesta Patronal. \n«En la  Iglesia Greco-Católica» – Patrocinio de la Virgen María.
URL:https://itapua.gov.py/evento/gran-fiesta-patronal/
LOCATION:Calle B4\, Carmen del Paraná\, Carmen del Paraná\, 6960
CATEGORIES:Carmen del Paraná,Turismo
ATTACH;FMTTYPE=image/jpeg:https://itapua.gov.py/wp-content/uploads/2024/10/Carmen461997177_860992139550299_3544702837002877690_n-e1728064219589.jpg
END:VEVENT
END:VCALENDAR