BEGIN:VCALENDAR
VERSION:2.0
PRODID:-//Gobernación de Itapúa - ECPv6.15.20//NONSGML v1.0//EN
CALSCALE:GREGORIAN
METHOD:PUBLISH
X-ORIGINAL-URL:https://itapua.gov.py
X-WR-CALDESC:Eventos para Gobernación de Itapúa
REFRESH-INTERVAL;VALUE=DURATION:PT1H
X-Robots-Tag:noindex
X-PUBLISHED-TTL:PT1H
BEGIN:VTIMEZONE
TZID:UTC
BEGIN:STANDARD
TZOFFSETFROM:+0000
TZOFFSETTO:+0000
TZNAME:UTC
DTSTART:20240101T000000
END:STANDARD
END:VTIMEZONE
BEGIN:VEVENT
DTSTART;TZID=UTC:20250703T180000
DTEND;TZID=UTC:20250703T233000
DTSTAMP:20260419T181720
CREATED:20250703T134523Z
LAST-MODIFIED:20250703T144549Z
UID:27417-1751565600-1751585400@itapua.gov.py
SUMMARY:GRAN FIESTA DE SAN JUAN!!
DESCRIPTION:Números artísticosComidas típicas Juegos tradicionales \n¡Y muchas sorpresas más! Jueves 03 de julio. 18:00 horas. Colegio Técnico Germán y Elsa Wilcke – Carmen del Paraná. Entrada general: Gs. 2.000 ¡No te pierdas esta fiesta con el sabor y la alegría de nuestras tradiciones!
URL:https://itapua.gov.py/evento/gran-fiesta-de-san-juan/
LOCATION:Colegio Tec. Germán y Elsa Wilcke y la Galería de nuestras Tradiciones.\, Carmen del Paraná\, Carmen del Paraná\, 070701\, Paraguay
CATEGORIES:Carmen del Paraná,Turismo
ATTACH;FMTTYPE=image/jpeg:https://itapua.gov.py/wp-content/uploads/2025/07/CAR514589429_1054373420212169_3249223690286986788_n-e1751550229487.jpg
END:VEVENT
BEGIN:VEVENT
DTSTART;TZID=UTC:20250713T100000
DTEND;TZID=UTC:20250713T160000
DTSTAMP:20260419T181720
CREATED:20250708T110543Z
LAST-MODIFIED:20250708T110543Z
UID:27443-1752400800-1752422400@itapua.gov.py
SUMMARY:SHOW EN VIVO DE LA BANDA CAPIBARY
DESCRIPTION:Este 13 de julio te esperamos para disfrutar de una Demostración de destrezas de Jinetes y Amazonas\, en el marco de las Fiestas Patronales en Honor a la Virgen del Carmen  Show en vivo de la Banda Capibary. Animación a cargo del “Gringo Jinete” Wolfgang Krüger. Venta de asado a la estaca y el tradicional batiburrillo. Parque Batalla de Tacuary. Desde las 10:00 horas. Acceso totalmente gratuito.¡Cordialmente invitados!
URL:https://itapua.gov.py/evento/show-en-vivo-de-la-banda-capibary/
LOCATION:Parque Batalla de Tacuary\, Avda. Costanera\, Carmen del Paraná\, 070701
CATEGORIES:Carmen del Paraná,Turismo
ATTACH;FMTTYPE=image/jpeg:https://itapua.gov.py/wp-content/uploads/2025/07/Car516804478_1058145476501630_6784847276712126977_n-e1751972700309.jpg
END:VEVENT
END:VCALENDAR