BEGIN:VCALENDAR
VERSION:2.0
PRODID:-//Gobernación de Itapúa - ECPv6.15.20//NONSGML v1.0//EN
CALSCALE:GREGORIAN
METHOD:PUBLISH
X-ORIGINAL-URL:https://itapua.gov.py
X-WR-CALDESC:Eventos para Gobernación de Itapúa
REFRESH-INTERVAL;VALUE=DURATION:PT1H
X-Robots-Tag:noindex
X-PUBLISHED-TTL:PT1H
BEGIN:VTIMEZONE
TZID:UTC
BEGIN:STANDARD
TZOFFSETFROM:+0000
TZOFFSETTO:+0000
TZNAME:UTC
DTSTART:20230101T000000
END:STANDARD
END:VTIMEZONE
BEGIN:VEVENT
DTSTART;TZID=UTC:20241112T130000
DTEND;TZID=UTC:20241113T153000
DTSTAMP:20260419T192950
CREATED:20241111T172032Z
LAST-MODIFIED:20241111T172057Z
UID:19991-1731416400-1731511800@itapua.gov.py
SUMMARY:TALLER "MANEJO Y CULTIVO DE ORQUIDEAS"
DESCRIPTION:¡Atención amantes de las orquídeas! Les invitamos a participar en un Taller sobre Manejo y Cultivo de Orquídeas\, donde aprenderás todo lo necesario para cuidar y hacer florecer estas hermosas plantas.  Martes 12/11 – 13:00 horas. – Miércoles 13/11 – 08:00 horas.Local del DEAg – MAG\, Carmen del Paraná.
URL:https://itapua.gov.py/evento/taller-manejo-y-cultivo-de-orquideas/
LOCATION:DEAg-MAG y la Municipalidad.\, Carmen del Paraná- Municipalidad\, Carmen del Paraná\, 070701\, Paraguay
CATEGORIES:Carmen del Paraná,Turismo
ATTACH;FMTTYPE=image/jpeg:https://itapua.gov.py/wp-content/uploads/2024/11/Orq466098087_887606213555558_2688055979446037365_n-e1731345608782.jpg
END:VEVENT
END:VCALENDAR