BEGIN:VCALENDAR
VERSION:2.0
PRODID:-//Gobernación de Itapúa - ECPv6.15.20//NONSGML v1.0//EN
CALSCALE:GREGORIAN
METHOD:PUBLISH
X-ORIGINAL-URL:https://itapua.gov.py
X-WR-CALDESC:Eventos para Gobernación de Itapúa
REFRESH-INTERVAL;VALUE=DURATION:PT1H
X-Robots-Tag:noindex
X-PUBLISHED-TTL:PT1H
BEGIN:VTIMEZONE
TZID:UTC
BEGIN:STANDARD
TZOFFSETFROM:+0000
TZOFFSETTO:+0000
TZNAME:UTC
DTSTART:20230101T000000
END:STANDARD
END:VTIMEZONE
BEGIN:VEVENT
DTSTART;TZID=UTC:20241116T180000
DTEND;TZID=UTC:20241116T233000
DTSTAMP:20260419T192950
CREATED:20241111T170104Z
LAST-MODIFIED:20241111T170104Z
UID:19985-1731780000-1731799800@itapua.gov.py
SUMMARY:LAS NOCHES DE LOS MUSEOS
DESCRIPTION:¡Este 16 de noviembre tendremos la Noche de los Museos!Te invitamos a una noche llena de cultura y entretenimiento.• Visita guiada para todos desde las 18:00 hasta medianoche.• Exposición de artesanas locales de 18:00 a 20:00 hs.• Presentación de la Escuela Municipal Tupa Ra’y a las 20:00 horas.•  Película al aire libre: “Los Buscadores” a las 21:30 horas. Museo Turístico Ferroviario.Desde las 18:00 horas. Entrada libre y gratuita. 
URL:https://itapua.gov.py/evento/las-noches-de-los-museos/
LOCATION:Museo Turítico Ferroviario\, Ruta 1 y Avda. Costanera\, Carmen del Paraná\, 070401\, Paraguay
CATEGORIES:Carmen del Paraná,Turismo
ATTACH;FMTTYPE=image/jpeg:https://itapua.gov.py/wp-content/uploads/2024/11/Las-noches466561020_888219386827574_4177083213607736336_n-e1731344444502.jpg
END:VEVENT
END:VCALENDAR