BEGIN:VCALENDAR
VERSION:2.0
PRODID:-//Gobernación de Itapúa - ECPv6.15.20//NONSGML v1.0//EN
CALSCALE:GREGORIAN
METHOD:PUBLISH
X-WR-CALNAME:Gobernación de Itapúa
X-ORIGINAL-URL:https://itapua.gov.py
X-WR-CALDESC:Eventos para Gobernación de Itapúa
REFRESH-INTERVAL;VALUE=DURATION:PT1H
X-Robots-Tag:noindex
X-PUBLISHED-TTL:PT1H
BEGIN:VTIMEZONE
TZID:UTC
BEGIN:STANDARD
TZOFFSETFROM:+0000
TZOFFSETTO:+0000
TZNAME:UTC
DTSTART:20240101T000000
END:STANDARD
END:VTIMEZONE
BEGIN:VEVENT
DTSTART;TZID=UTC:20250215T070000
DTEND;TZID=UTC:20250216T170000
DTSTAMP:20260419T154651
CREATED:20250204T151744Z
LAST-MODIFIED:20250204T151744Z
UID:22232-1739602800-1739725200@itapua.gov.py
SUMMARY:1RA. FECHA DEL CAMPEONATO 2025 SUPER RALLY
DESCRIPTION:De vuelta al ruedo\, el piloto Fabio Acosta junto a su copiloto Gonzalo Acosta\, confirman su presencia en la primera fecha del Campeonato de Súper Rally 2025 – Copa Carmen del Paraná
URL:https://itapua.gov.py/evento/1ra-fecha-del-campeonato-2025-super-rally/
LOCATION:Carmen del Paraná\, Carmen del Paraná\, 6960\, Paraguay
CATEGORIES:Carmen del Paraná,Turismo
ATTACH;FMTTYPE=image/jpeg:https://itapua.gov.py/wp-content/uploads/2025/02/Car475964003_1120254719900143_1278298484735472997_n-e1738681912366.jpg
END:VEVENT
END:VCALENDAR