BEGIN:VCALENDAR
VERSION:2.0
PRODID:-//Gobernación de Itapúa - ECPv6.15.20//NONSGML v1.0//EN
CALSCALE:GREGORIAN
METHOD:PUBLISH
X-WR-CALNAME:Gobernación de Itapúa
X-ORIGINAL-URL:https://itapua.gov.py
X-WR-CALDESC:Eventos para Gobernación de Itapúa
REFRESH-INTERVAL;VALUE=DURATION:PT1H
X-Robots-Tag:noindex
X-PUBLISHED-TTL:PT1H
BEGIN:VTIMEZONE
TZID:UTC
BEGIN:STANDARD
TZOFFSETFROM:+0000
TZOFFSETTO:+0000
TZNAME:UTC
DTSTART:20240101T000000
END:STANDARD
END:VTIMEZONE
BEGIN:VEVENT
DTSTART;TZID=UTC:20250412T140000
DTEND;TZID=UTC:20250412T163000
DTSTAMP:20260419T154653
CREATED:20250404T140409Z
LAST-MODIFIED:20250404T140409Z
UID:24188-1744466400-1744475400@itapua.gov.py
SUMMARY:TALLER DE REPOSTERÍA - ESPECIAL POR PASCUA
DESCRIPTION:  \nTALLER DE REPOSTERÍA – ESPECIAL POR PASCUA Aprende con Oxana Wieczorko a preparar: Rosca de Pascua. Huevos gourmet.Chipa tradicional con base de jugo de naranja. 12 de abril de 2025 – desde las 14:00 hsMunicipalidad Antigua. \n Totalmente GRATUITO. Inscripciones: 0986 558 717 0985 760 141¡No te pierdas esta oportunidad de aprender y disfrutar de la dulzura de la Pascua! 
URL:https://itapua.gov.py/evento/taller-de-reposteria-especial-por-pascua/
LOCATION:Municipalidad Antiguo.\, Avda. Costanera de Carmen del Paraná\, Carmen del Paraná\, 6960\, Paraguay
CATEGORIES:Carmen del Paraná,Turismo
ATTACH;FMTTYPE=image/jpeg:https://itapua.gov.py/wp-content/uploads/2025/04/HH487375161_987958023520376_5629241747568636258_n-e1743774723168.jpg
END:VEVENT
END:VCALENDAR