BEGIN:VCALENDAR
VERSION:2.0
PRODID:-//Gobernación de Itapúa - ECPv6.15.20//NONSGML v1.0//EN
CALSCALE:GREGORIAN
METHOD:PUBLISH
X-ORIGINAL-URL:https://itapua.gov.py
X-WR-CALDESC:Eventos para Gobernación de Itapúa
REFRESH-INTERVAL;VALUE=DURATION:PT1H
X-Robots-Tag:noindex
X-PUBLISHED-TTL:PT1H
BEGIN:VTIMEZONE
TZID:UTC
BEGIN:STANDARD
TZOFFSETFROM:+0000
TZOFFSETTO:+0000
TZNAME:UTC
DTSTART:20240101T000000
END:STANDARD
END:VTIMEZONE
BEGIN:VEVENT
DTSTART;VALUE=DATE:20250415
DTEND;VALUE=DATE:20250521
DTSTAMP:20260419T165335
CREATED:20250410T152728Z
LAST-MODIFIED:20250410T155227Z
UID:24335-1744675200-1747785599@itapua.gov.py
SUMMARY:AGENDA PARA SEMANA SANTA CARMEN DEL PARANÁ (TIEMPO DE REFLEXIÓN)
DESCRIPTION:Semana Santa es tiempo de encuentros\, reflexión… ¡y también de descubrir nuevos destinos! Si estás pensando en hacer turismo interno durante estos días santos\, Carmen del Paraná te espera con su encanto único\, naturaleza\, y muchas actividades.\nUn lugar ideal para disfrutar en familia y desconectar de la rutina.\nDiversas Actividades:\nFecha y                         Horarios\nMartes 15/04/25        15:00 horas\nJueves 17/04/25         Día completo\nViernes18/04/25        15:00 horas\nDomingo 20/04/25   08:30 horas\n La Gobernación de Itapúa acompaña estas actividades!!
URL:https://itapua.gov.py/evento/agenda-para-semana-santa-carmen-del-parana-tiempo-de-reflexion/
LOCATION:Lugar: Playa Ybycui y Plaza Tacuary.\, Costanera de Carmen del Paraná\, Carmen del Paraná\, 6000\, Paraguay
CATEGORIES:Carmen del Paraná,Turismo
ATTACH;FMTTYPE=image/jpeg:https://itapua.gov.py/wp-content/uploads/2025/04/Car489948916_992978229685022_5543286588817076659_n-e1744294658719.jpg
END:VEVENT
END:VCALENDAR