BEGIN:VCALENDAR
VERSION:2.0
PRODID:-//Gobernación de Itapúa - ECPv6.15.20//NONSGML v1.0//EN
CALSCALE:GREGORIAN
METHOD:PUBLISH
X-WR-CALNAME:Gobernación de Itapúa
X-ORIGINAL-URL:https://itapua.gov.py
X-WR-CALDESC:Eventos para Gobernación de Itapúa
REFRESH-INTERVAL;VALUE=DURATION:PT1H
X-Robots-Tag:noindex
X-PUBLISHED-TTL:PT1H
BEGIN:VTIMEZONE
TZID:UTC
BEGIN:STANDARD
TZOFFSETFROM:+0000
TZOFFSETTO:+0000
TZNAME:UTC
DTSTART:20240101T000000
END:STANDARD
END:VTIMEZONE
BEGIN:VEVENT
DTSTART;TZID=UTC:20250529T180000
DTEND;TZID=UTC:20250610T210000
DTSTAMP:20260419T165737
CREATED:20250528T122123Z
LAST-MODIFIED:20250528T122123Z
UID:25976-1748541600-1749589200@itapua.gov.py
SUMMARY:ASESORÍA Y ATENCIÓN AL CLIENTE- ITPÚA MODO RALLY
DESCRIPTION:Asesoría y Atención al Cliente Jueves 29 de mayo al martes 10 de junio. 18:00 a 21:00 horas. – de lunes a jueves. Modalidad: Presencial – Local Col. Nacional Ntra. Sra. del Carmen. Más información al: 0986 480 108. 
URL:https://itapua.gov.py/evento/asesoria-y-atencion-al-cliente-itpua-modo-rally/
LOCATION:Coleg. Nac. Nuestra Señora del Carmen\, Carmen del Paraná\, Carmen del Paraná\, 070701
CATEGORIES:Carmen del Paraná,Turismo
ATTACH;FMTTYPE=image/jpeg:https://itapua.gov.py/wp-content/uploads/2025/05/ITA500357724_1024796413169870_2441936122820324329_n-e1748434797168.jpg
END:VEVENT
END:VCALENDAR