BEGIN:VCALENDAR
VERSION:2.0
PRODID:-//Gobernación de Itapúa - ECPv6.15.20//NONSGML v1.0//EN
CALSCALE:GREGORIAN
METHOD:PUBLISH
X-ORIGINAL-URL:https://itapua.gov.py
X-WR-CALDESC:Eventos para Gobernación de Itapúa
REFRESH-INTERVAL;VALUE=DURATION:PT1H
X-Robots-Tag:noindex
X-PUBLISHED-TTL:PT1H
BEGIN:VTIMEZONE
TZID:UTC
BEGIN:STANDARD
TZOFFSETFROM:+0000
TZOFFSETTO:+0000
TZNAME:UTC
DTSTART:20250101T000000
END:STANDARD
END:VTIMEZONE
BEGIN:VEVENT
DTSTART;TZID=UTC:20260118T152000
DTEND;TZID=UTC:20260118T200000
DTSTAMP:20260421T144840
CREATED:20260116T150138Z
LAST-MODIFIED:20260116T150138Z
UID:33851-1768749600-1768766400@itapua.gov.py
SUMMARY:MELIDIA JOVEN JR EN EVENTO PARANÁ
DESCRIPTION:Este domingo 18 de enero 2026 recibimos nuevamente en el escenario a MELODÍA JOVEN JR \n Te esperamos en Paraná Eventos desde\n15:00 a 20:00 horas
URL:https://itapua.gov.py/evento/melidia-joven-jr-en-evento-parana/
LOCATION:Evento Paraná\, Ruta Py 06 Km.40 cruce a puerto de Obligado\, Encarnación\, 071701\, Paraguay
CATEGORIES:Cruce a Puerto Obligado,Turismo
ATTACH;FMTTYPE=image/jpeg:https://itapua.gov.py/wp-content/uploads/2026/01/eve616456214_893291273656463_2273652297048277693_n-e1768575643673.jpg
END:VEVENT
END:VCALENDAR