BEGIN:VCALENDAR
VERSION:2.0
PRODID:-//Gobernación de Itapúa - ECPv6.15.20//NONSGML v1.0//EN
CALSCALE:GREGORIAN
METHOD:PUBLISH
X-WR-CALNAME:Gobernación de Itapúa
X-ORIGINAL-URL:https://itapua.gov.py
X-WR-CALDESC:Eventos para Gobernación de Itapúa
REFRESH-INTERVAL;VALUE=DURATION:PT1H
X-Robots-Tag:noindex
X-PUBLISHED-TTL:PT1H
BEGIN:VTIMEZONE
TZID:UTC
BEGIN:STANDARD
TZOFFSETFROM:+0000
TZOFFSETTO:+0000
TZNAME:UTC
DTSTART:20230101T000000
END:STANDARD
END:VTIMEZONE
BEGIN:VEVENT
DTSTART;TZID=UTC:20241228T200000
DTEND;TZID=UTC:20241228T233000
DTSTAMP:20260421T155542
CREATED:20241205T170315Z
LAST-MODIFIED:20241205T172040Z
UID:21137-1735416000-1735428600@itapua.gov.py
SUMMARY:LLEGA LA XXXV EDICIÓN DEL FESTIVAL NACIONAL DEL CHIPA 2024
DESCRIPTION:35 FESTIVAL NACIONAL DEL CHIPAEl próximo 28 de diciembre en el predio de la AIDE en Coronel Bogado\, estamos preparando con numerosos números artísticos para disfrutar de un momento fabuloso.  \n\n\n\n\n\n\n\n\n\n\n\n\n\n\n\n\n\n\n\n  \n  \n  \n  \n  \n  \n 
URL:https://itapua.gov.py/evento/llega-la-xxxv-edicion-del-festival-nacional-del-chipa-2024/
LOCATION:Predio nde la AIDI\, Paraguay
CATEGORIES:Coronel Bogado,Turismo
ATTACH;FMTTYPE=image/jpeg:https://itapua.gov.py/wp-content/uploads/2024/12/Boga468911930_887511670204362_7820629240403777973_n.jpg
END:VEVENT
END:VCALENDAR