BEGIN:VCALENDAR
VERSION:2.0
PRODID:-//Gobernación de Itapúa - ECPv6.15.20//NONSGML v1.0//EN
CALSCALE:GREGORIAN
METHOD:PUBLISH
X-WR-CALNAME:Gobernación de Itapúa
X-ORIGINAL-URL:https://itapua.gov.py
X-WR-CALDESC:Eventos para Gobernación de Itapúa
REFRESH-INTERVAL;VALUE=DURATION:PT1H
X-Robots-Tag:noindex
X-PUBLISHED-TTL:PT1H
BEGIN:VTIMEZONE
TZID:UTC
BEGIN:STANDARD
TZOFFSETFROM:+0000
TZOFFSETTO:+0000
TZNAME:UTC
DTSTART:20240101T000000
END:STANDARD
END:VTIMEZONE
BEGIN:VEVENT
DTSTART;TZID=UTC:20250531T120000
DTEND;TZID=UTC:20250601T000000
DTSTAMP:20260421T023030
CREATED:20250519T181626Z
LAST-MODIFIED:20250519T181626Z
UID:25609-1748692800-1748736000@itapua.gov.py
SUMMARY:XVII FIESTA NACIONAL DEL INMIGRANTE 2025
DESCRIPTION:Coronel Bogado se prepara para la XVII Fiesta Nacional del Inmigrante! \n\nLos días 31 de mayo y 1 de junio\, el predio de la AIDE – Asociación de Inmigrantes y Descendientes Eslavos se llena de alegría\, cultura y tradiciones.\n\n\nTe invitamos a vivir dos jornadas inolvidables con:\n\n\nEspectáculos de artistas renombrados\n\n\nActuación de artistas locales\n\n\nDanzas típicas de diversas colectividades\n\n\nComidas tradicionales de las diferentes nacionalidades\n\n\n¡Una fiesta para toda la familia\, para reencontrarnos con nuestras raíces y celebrar la diversidad que nos une!\n\n\n¡No te lo pierdas!\n\n\nOrganiza: AIDE – Asociación de Inmigrantes y Descendientes Eslavos
URL:https://itapua.gov.py/evento/xvii-fiesta-nacional-del-inmigrante-2025/
LOCATION:Asociaciación de Eslavos\, Ruta N° 8 Dr. Blas Garay\, Coronel Bogado\, Paraguay
CATEGORIES:Coronel Bogado,Turismo
END:VEVENT
END:VCALENDAR