BEGIN:VCALENDAR
VERSION:2.0
PRODID:-//Gobernación de Itapúa - ECPv6.15.20//NONSGML v1.0//EN
CALSCALE:GREGORIAN
METHOD:PUBLISH
X-WR-CALNAME:Gobernación de Itapúa
X-ORIGINAL-URL:https://itapua.gov.py
X-WR-CALDESC:Eventos para Gobernación de Itapúa
REFRESH-INTERVAL;VALUE=DURATION:PT1H
X-Robots-Tag:noindex
X-PUBLISHED-TTL:PT1H
BEGIN:VTIMEZONE
TZID:UTC
BEGIN:STANDARD
TZOFFSETFROM:+0000
TZOFFSETTO:+0000
TZNAME:UTC
DTSTART:20240101T000000
END:STANDARD
END:VTIMEZONE
BEGIN:VEVENT
DTSTART;TZID=UTC:20250710T080000
DTEND;TZID=UTC:20251011T170000
DTSTAMP:20260419T173017
CREATED:20250721T133917Z
LAST-MODIFIED:20250721T134822Z
UID:28671-1752134400-1760202000@itapua.gov.py
SUMMARY:"XII CONGRESO INTERNACIONAL"\, CIENCIA DISEÑO Y TECNOLOGÍA
DESCRIPTION:La Universidad Autónoma de Encarnación invita a profesionales\, egresados y estudiantes a participar del 𝗩𝗜𝗜 𝗖𝗼𝗻𝗴𝗿𝗲𝘀𝗼 𝗜𝗻𝘁𝗲𝗿𝗻𝗮𝗰𝗶𝗼𝗻𝗮𝗹 𝗱𝗲 𝗖𝗶𝗲𝗻𝗰𝗶𝗮\, 𝗗𝗶𝘀𝗲𝗻̃𝗼 𝘆 𝗧𝗲𝗰𝗻𝗼𝗹𝗼𝗴𝗶́𝗮\, que se desarrollará los días 10 y 11 de octubre en el Campus Urbano de la UNAE\, bajo el lema “Ciencia\, diseño y tecnología para la inclusión”. Viernes 10 de octubre   18:30 a 21:30 horas Sábado 11 de octubre   08:00 a 12:00 horas Campus Urbano de la UNAE – Encarnación\, Paraguay.
URL:https://itapua.gov.py/evento/xii-congreso-internacional-ciencia-diseno-y-tecnologia/
LOCATION:Unv. Autónoma UNAE.\, Padre Kreusser entre Independencia Nacional y Honorio González\, Encarnación\, Encarnación\, 6000\, Paraguay
CATEGORIES:Encarnación,Turismo
ATTACH;FMTTYPE=image/jpeg:https://itapua.gov.py/wp-content/uploads/2025/07/DIS517244494_1141546521344883_5980657284086380020_n-e1753104889398.jpg
END:VEVENT
BEGIN:VEVENT
DTSTART;TZID=UTC:20250906T080000
DTEND;TZID=UTC:20250906T100000
DTSTAMP:20260419T173017
CREATED:20250818T133716Z
LAST-MODIFIED:20250818T134025Z
UID:30047-1757145600-1757152800@itapua.gov.py
SUMMARY:X JORNADA DE COMUNICACIÓN Y DIVILGACIÓN CIENTÍFICA\,
DESCRIPTION: Programa: Presentación de revistas científicas nacionales e internacionales y debate con editoresa. Revista de Investigación y Desarrollo – Universidad Gastón Dachary (Argentina). Ing. Juan Pablo Cinto.b. Revista Desenvolvimiento em Questão – UNIJUÍ (Brasil). Dr. Pedro Büttenbenderc. Revista Desarrollo Regional – UNI (Paraguay). Dra. Susana Lugo.d. Revista La Saeta Universitaria\, Académica y de Investigación – UNAE (Paraguay) Mag. Matía Denis.e Revista Actio – UCI (Paraguay) – Abog. Fulvia González.
URL:https://itapua.gov.py/evento/x-jornada-de-comunicacion-y-divilgacion-cientifica/
LOCATION:Auditório Guaranía\, Padre Kreusser entre Independencia Nacional y Honorio González\, Encarnación\, Encarnación\, 6000
CATEGORIES:Encarnación,Turismo
ATTACH;FMTTYPE=image/jpeg:https://itapua.gov.py/wp-content/uploads/2025/08/leer533400045_816826527333601_3161871606737906607_n-e1755524123717.jpg
END:VEVENT
BEGIN:VEVENT
DTSTART;VALUE=DATE:20250924
DTEND;VALUE=DATE:20250929
DTSTAMP:20260419T173017
CREATED:20250924T130946Z
LAST-MODIFIED:20250924T131000Z
UID:31743-1758672000-1759103999@itapua.gov.py
SUMMARY:ALGUNAS  ACTIVIDADES QUE ENCARNACIÓN TE OFRECE
DESCRIPTION:Preparamos algunas actividades pensando en uds. \n– Maxi Aventura: Multi espacio de diversión Horario de 13:20 a 22:30 \n_Paseo los Artesanos\, Frente a la Playa San José Telef. 0985-807400 \n_Paseo en Kayaks los días lunes a Domingo en Horario de 10:00 a 20:00 \n_La Escalinata de San Pedro; vine y viví cada rincón
URL:https://itapua.gov.py/evento/algunas-actividades-que-encarnacion-te-ofrece/
LOCATION:Playa San José de la Costanera\, Costanera San José\, Encarnación\, 6000\, Paraguay
CATEGORIES:Encarnación,Turismo
ATTACH;FMTTYPE=image/jpeg:https://itapua.gov.py/wp-content/uploads/2025/09/mu548281036_1194395009379878_7360114815327548407_n-e1758719361247.jpg
END:VEVENT
BEGIN:VEVENT
DTSTART;VALUE=DATE:20250924
DTEND;VALUE=DATE:20251001
DTSTAMP:20260419T173017
CREATED:20250924T122133Z
LAST-MODIFIED:20250924T122133Z
UID:31730-1758672000-1759276799@itapua.gov.py
SUMMARY:VISITE EL MUSEO ALBERTO DEL VALLE!!!
DESCRIPTION:Visite el Museo Prof. Alberto Del Valle!!! \nquien fue un respetado coleccionista\, poeta\, escritor\, museógrafo\, intelectual y docente; fue un gran propulsor de labores culturales en el Departamento de Itapúa\, dedicó más de 25 años a reunir objetos antiguos con gran valor histórico. “Aún en vida\, Don Alberto había comentado que empezó a interesarse por las piezas históricas en su época de maestro de primaria en el Colegio San Blás de Colonia Obligado. Allí observó que los sacerdotes “juntaban” santos rotos y entendió que existían demasiadas cosas con valor patrimonial en país; que merecían ser rescatados. En tiempos en los que trabajaba en Yacyretá\, veía que los ingenieros franceses compraban y llevaban a Francia las imágenes viejas.” se menciona en el blog especial del museo. \nEn las salas del museo resaltan una galería de retratos de héroes paraguayos de la Guerra de la Triple Alianza y una serie de reproducciones de diez óleos del Renacimiento; obras pintadas por Bartolomé Martínez. \nHorario de Atención de marte a domingo a partir de 09:00 a 17:00 horas
URL:https://itapua.gov.py/evento/visite-el-museo-alberto-del-valle/
LOCATION:Barrio San Blas camino al Santuario de Itacua\, Camino al Santuario de Itacúa.\, Encarnación\, 6000\, Paraguay
CATEGORIES:Encarnación,Turismo
ATTACH;FMTTYPE=image/jpeg:https://itapua.gov.py/wp-content/uploads/2025/09/MUS547626579_1315193633725627_6214402477937355028_n-e1758716457692.jpg
END:VEVENT
BEGIN:VEVENT
DTSTART;TZID=UTC:20250924T090000
DTEND;TZID=UTC:20250924T233000
DTSTAMP:20260419T173017
CREATED:20250924T174651Z
LAST-MODIFIED:20250924T174651Z
UID:31782-1758704400-1758756600@itapua.gov.py
SUMMARY:NOCHE DE SUCESOS SERTANEJOS
DESCRIPTION:Casino Carnaval te espera con un ritmo fantástico\nRitmos alegres buena vibra y baile\nCon Gabriel Baeza sucesos Sertanejos!! no faltes tu lugar favorito.
URL:https://itapua.gov.py/evento/noche-de-sucesos-sertanejos/
LOCATION:Casino Carnaval\, Avda. Irrazabal y Gral Cabañas\, Encarnación\, 6000\, Paraguay
CATEGORIES:Encarnación,Turismo
ATTACH;FMTTYPE=image/jpeg:https://itapua.gov.py/wp-content/uploads/2025/09/BAEZ552577473_10234262909946455_7078523522443511876_n-e1758735958655.jpg
END:VEVENT
BEGIN:VEVENT
DTSTART;TZID=UTC:20250924T180000
DTEND;TZID=UTC:20250930T200000
DTSTAMP:20260419T173017
CREATED:20250924T143118Z
LAST-MODIFIED:20250924T143118Z
UID:31764-1758736800-1759262400@itapua.gov.py
SUMMARY:CLUB DE TEATRO ROCEMI
DESCRIPTION:¿Sos actor\, actriz\, estudiante de actuación o simplemente tenés ganas de vivir la experiencia teatral?\nEl Club de Teatro ROCEMI llegó para darte el espacio que estabas esperando.\n\n\nUn lugar donde vas a poder crear\, aprender y compartir con personas que sienten la misma pasión que vos por el arte teatral en todas sus formas.\n\n\n Abierto a principiantes y avanzados.\n Todos los lunes de 18:00 a 20:00 horas en la Academia Integral de Artes Rocemi\n\n\n Más información al WhatsApp 0983 007 873\n ¡Animate a ser parte!
URL:https://itapua.gov.py/evento/club-de-teatro-rocemi/
LOCATION:Academia de Arte Integral ROCEMI\, Padre Kreusser 467 y Mcal Estigarribia\, Encarnación\, 6000\, Paraguay
CATEGORIES:Encarnación,Turismo
ATTACH;FMTTYPE=image/jpeg:https://itapua.gov.py/wp-content/uploads/2025/09/ROC547236247_1354156436714774_2447131973503831895_n-e1758724250296.jpg
END:VEVENT
BEGIN:VEVENT
DTSTART;TZID=UTC:20250926T080000
DTEND;TZID=UTC:20250928T170000
DTSTAMP:20260419T173017
CREATED:20250925T152757Z
LAST-MODIFIED:20250925T152757Z
UID:31822-1758873600-1759078800@itapua.gov.py
SUMMARY:!DISFRUTA DEL MEJOR AMBIENTE Y BUENA MÚSICA!! EN PAPILLON DE BELLA VISTA
DESCRIPTION:Un fin de semana imperdible \nVen a disfrutar de buena música\, gastronomía variada y la mejor atención \n\n\n¡Te esperamos!\n\n\n@papillonpy\nVienes: 26/09/2025 a partir de las 19:00 horas\nSábado 27/09/2025 desde las 20:00 horas y\nDomingo 28/09/2025 a las 12:00 horas.
URL:https://itapua.gov.py/evento/disfruta-del-mejor-ambiente-y-buena-musica-en-papillon-de-bella-vista/
LOCATION:Hotel y Restauran Papillón\, Ruta Py 06 Km.48\, 6310\, Paraguay
CATEGORIES:Encarnación,Turismo
ATTACH;FMTTYPE=image/jpeg:https://itapua.gov.py/wp-content/uploads/2025/09/Papi554163169_18530253364033491_4680814253681075910_n-e1758813287555.jpg
END:VEVENT
BEGIN:VEVENT
DTSTART;TZID=UTC:20250926T213000
DTEND;TZID=UTC:20250926T233000
DTSTAMP:20260419T173017
CREATED:20250924T145313Z
LAST-MODIFIED:20250924T145352Z
UID:31769-1758922200-1758929400@itapua.gov.py
SUMMARY:SHOW EN VIVO CONLA BANDA LO QUE VENGA
DESCRIPTION:¡La noche empieza con buena música en Carnaval! Este viernes 26 de septiembre disfruta un show en vivo con la banda Lo Que Venga . Avda. Irrazábal y Gral. Cabañas – Encarnación Reservas: +595 993 288 401
URL:https://itapua.gov.py/evento/show-en-vivo-conla-banda-lo-que-venga/
LOCATION:Hotel Casino Carnaval\, Avda. Irrazabal y Gral Cabañas\, Encarnación\, 6000\, Paraguay
CATEGORIES:Encarnación,Turismo
ATTACH;FMTTYPE=image/jpeg:https://itapua.gov.py/wp-content/uploads/2025/09/CAS549813252_1294816249356147_4626680865810882790_n-e1758725548148.jpg
END:VEVENT
BEGIN:VEVENT
DTSTART;TZID=UTC:20250927T133000
DTEND;TZID=UTC:20250927T170000
DTSTAMP:20260419T173017
CREATED:20250925T135349Z
LAST-MODIFIED:20250925T135349Z
UID:31814-1758979800-1758992400@itapua.gov.py
SUMMARY:FIESTA PRIMAVERA Y JUVENTUD
DESCRIPTION: PRIMAVERA & JUVENTUD: LA FIESTA QUE UNE A TODOS  Encarnación se llena de color\, música y alegría en la Fiesta de la Primavera y la Juventud. Un día para celebrar la energía de la juventud encarnacena\, el talento de las hinchadas\, la belleza de nuestras misses y la magia de las carrozas. Sábado 27 de septiembre Centro Cívico Municipal – 15:30 horas ¡Viví con nosotros esta gran tradición que hace palpitar a toda la ciudad!  \nVer menos
URL:https://itapua.gov.py/evento/fiesta-primavera-y-juventud/
LOCATION:Centro Cívico Municipal\, Avda. Costanera\, Encarnación\, 6000\, Paraguay
CATEGORIES:Encarnación,Turismo
ATTACH;FMTTYPE=image/jpeg:https://itapua.gov.py/wp-content/uploads/2025/09/EN554080118_1200855572067155_6226883192027617890_n-e1758808400574.jpg
END:VEVENT
BEGIN:VEVENT
DTSTART;TZID=UTC:20250930T200000
DTEND;TZID=UTC:20250930T213000
DTSTAMP:20260419T173017
CREATED:20250930T140133Z
LAST-MODIFIED:20250930T140133Z
UID:31850-1759262400-1759267800@itapua.gov.py
SUMMARY:CONFERENCIA "TURISMO CON VALOR CÓMO COMBINAR PRODUCTOS Y ATENCIÓN  PARA CONQUISTAR AL VIAJERO"
DESCRIPTION:Hotelería y Turismo de la UNAE. Martes 30 de septiembre | \nHora: 20:00  Auditorio II de la UNAE. Disertante: Esp. Lorena Escobar. Especialista en Desarrollo Turístico\, Comunitario y Rural. Especialista en Gestión de Desarrollo Turístico. Formación en Igualdad de Género en el Turismo. Docente Universitaria. El Día Mundial del Turismo se conmemora todos los años el 27 de septiembre. Su propósito es el de concienciar a la comunidad acerca del valor social\, cultural\, político y económico del turismo.Lugar: Universidad Autónoma de Encarnación Sede Colonias Unidas: Guillermo Closs c/ Aviadores del Chaco. Hohenau.
URL:https://itapua.gov.py/evento/conferencia-turismo-con-valor-como-combinar-productos-y-atencion-para-conquistar-al-viajero/
LOCATION:Auditorio de la UNAE.\, Padre Kreusser entre Independencia Nacional y Honorio González\, Encarnación\, Encarnación\, 6000\, Paraguay
CATEGORIES:Encarnación,Turismo
ATTACH;FMTTYPE=image/jpeg:https://itapua.gov.py/wp-content/uploads/2025/09/LO556095875_1203524858480382_4790006590688217505_n-e1759240867499.jpg
END:VEVENT
END:VCALENDAR