BEGIN:VCALENDAR
VERSION:2.0
PRODID:-//Gobernación de Itapúa - ECPv6.15.20//NONSGML v1.0//EN
CALSCALE:GREGORIAN
METHOD:PUBLISH
X-ORIGINAL-URL:https://itapua.gov.py
X-WR-CALDESC:Eventos para Gobernación de Itapúa
REFRESH-INTERVAL;VALUE=DURATION:PT1H
X-Robots-Tag:noindex
X-PUBLISHED-TTL:PT1H
BEGIN:VTIMEZONE
TZID:UTC
BEGIN:STANDARD
TZOFFSETFROM:+0000
TZOFFSETTO:+0000
TZNAME:UTC
DTSTART:20250101T000000
END:STANDARD
END:VTIMEZONE
BEGIN:VEVENT
DTSTART;TZID=UTC:20260302T173000
DTEND;TZID=UTC:20260302T183000
DTSTAMP:20260421T101414
CREATED:20260218T175227Z
LAST-MODIFIED:20260218T175227Z
UID:34625-1772472600-1772476200@itapua.gov.py
SUMMARY:BAILAMOS\, JUGAMOS  Y CREAMOS HISTORIAS
DESCRIPTION:Rocemi Baila Clases que combinan danza\, expresión e interpretación Lunes y miércoles | 17:30 a 18:30 horas¡Sumate
URL:https://itapua.gov.py/evento/bailamos-jugamos-y-creamos-historias/
LOCATION:Academia de Arte Integral Rocemi.\, Mcal. Estigarribia y Jorge Memell\, Encarnación\, 6000\, Paraguay
CATEGORIES:Encarnación,Turismo
ATTACH;FMTTYPE=image/jpeg:https://itapua.gov.py/wp-content/uploads/2026/02/Roc632088774_18348623497234512_113519883613766458_n-e1771437127346.jpg
END:VEVENT
BEGIN:VEVENT
DTSTART;TZID=UTC:20260303T160000
DTEND;TZID=UTC:20260303T180000
DTSTAMP:20260421T101414
CREATED:20260211T121652Z
LAST-MODIFIED:20260211T121652Z
UID:34425-1772553600-1772560800@itapua.gov.py
SUMMARY:TEATRO\, CINE\, JUEGO\, CREATIVIDAD Y MUCHA DIVERSIÓN
DESCRIPTION:Inscripciones abiertas!\nActuación para niños de 2 a 8 años.\nTeatro\, cine\, juego\, creatividad y mucha diversión \n Inicio: 3 de marzo 2026\nHORARIOS\nMartes de 16:00 a 18:00\nJueves de 17:300 a 19:30
URL:https://itapua.gov.py/evento/teatro-cine-juego-creatividad-y-mucha-diversion/
LOCATION:Academia Integral de Arte ROCEMI\, Mcal. Estigarribia y Jorge Memell\, Encarnación\, 6000\, Paraguay
CATEGORIES:Encarnación,Turismo
ATTACH;FMTTYPE=image/jpeg:https://itapua.gov.py/wp-content/uploads/2026/02/ROce630335764_18347816605234512_620900734288440033_n.jpg
END:VEVENT
BEGIN:VEVENT
DTSTART;TZID=UTC:20260305T200000
DTEND;TZID=UTC:20260305T220000
DTSTAMP:20260421T101414
CREATED:20260129T130241Z
LAST-MODIFIED:20260129T130241Z
UID:34085-1772740800-1772748000@itapua.gov.py
SUMMARY:OBRA TEATRAL ALMUERZO EN PAZ
DESCRIPTION:En Febrero no paramos con las obras Teatrales Reserva ya tu anticipada para disfrutar de una súper comedia\n\n\nEscribanos al WhatsApp 0983007873 y reserva la tuya
URL:https://itapua.gov.py/evento/obra-teatral-almuerzo-en-paz/
LOCATION:Academia Integral de Arte.\, Jorge Memmel y Mcal Estigarribia\, Encarnación\, 6000\, Paraguay
CATEGORIES:Encarnación,Turismo
ATTACH;FMTTYPE=image/jpeg:https://itapua.gov.py/wp-content/uploads/2026/01/roce621247266_1468783628585387_6762983227749743576_n.jpg
END:VEVENT
BEGIN:VEVENT
DTSTART;TZID=UTC:20260309T200000
DTEND;TZID=UTC:20260309T213000
DTSTAMP:20260421T101414
CREATED:20260309T145205Z
LAST-MODIFIED:20260309T145205Z
UID:34875-1773086400-1773091800@itapua.gov.py
SUMMARY:CONCIERTO APERTURA DEL TALLER GRATUITO
DESCRIPTION:Concierto apertura del Taller Gratuito\, en el salón de la Fucai en Hohenau \nFecha: 09/03/2026 \nHora: 20:00 \nTe esperamos no faltes.
URL:https://itapua.gov.py/evento/concierto-apertura-del-taller-gratuito/
LOCATION:Salon Auditorio de la FUCAI.\, Av. Guillermo Hutte\, Encarnación\, 6000\, Paraguay
CATEGORIES:Encarnación,Turismo
ATTACH;FMTTYPE=image/jpeg:https://itapua.gov.py/wp-content/uploads/2026/03/Con3b5fd4ea-3f56-4649-886e-507a510f9919-e1773061117567.jpg
END:VEVENT
BEGIN:VEVENT
DTSTART;TZID=UTC:20260311T100000
DTEND;TZID=UTC:20260311T110000
DTSTAMP:20260421T101414
CREATED:20260310T165601Z
LAST-MODIFIED:20260310T165601Z
UID:34900-1773223200-1773226800@itapua.gov.py
SUMMARY:SEMANA SANTA 2026
DESCRIPTION:La Secretaría Nacional de Turismo del Paraguay (SENATUR)\, la Delegación de Turismo y Cultura de la Entidad Binacional Yacyretá y las Secretarías de Turismo de las Gobernaciones de Itapúa y Misiones \, tienen el agrado de invitar a la Conferencia de Prensa y Lanzamiento de la Agenda de Semana Santa 2026 de los departamentos de Itapúa y Misiones. \nEste encuentro será una oportunidad para presentar las principales propuestas turísticas\, culturales y religiosas que invitan a descubrir el sur del país durante la Semana Santa\, destacando sus tradiciones\, patrimonio y experiencias únicas. \nFecha: Miércoles 11 de marzo\nHora: 10:00 h\nLugar: Turista Róga Encarnación (Ruta 1 y Avda. Padre Bolik)\, en la ciudad de Encarnación.
URL:https://itapua.gov.py/evento/semana-santa-2026/
LOCATION:Turista Róga\, Ruta 1 y Avda. Padre Bolik\, Encarnación\, 6000\, Paraguay
CATEGORIES:Encarnación,Turismo
ATTACH;FMTTYPE=image/jpeg:https://itapua.gov.py/wp-content/uploads/2026/03/SENAT03b201c7-2198-4706-950b-246643cd4190-e1773161735225.jpg
END:VEVENT
BEGIN:VEVENT
DTSTART;TZID=UTC:20260311T190000
DTEND;TZID=UTC:20260311T200000
DTSTAMP:20260421T101414
CREATED:20260311T144738Z
LAST-MODIFIED:20260311T145211Z
UID:34957-1773255600-1773259200@itapua.gov.py
SUMMARY:CONFERENCIA TRANSFORMACIÓN DIGITAL EN LA SALUD RETOS\, REALES DE LA INGENIERÍA EN UN HOSPITAL P.
DESCRIPTION:el marco del inicio del año académico\, estudiantes de la Lic. en Análisis de Sistemas Informáticos e Ingeniería Informática y Ciencia de Datos de la UNAE participarán de la Clase inaugural “Transformación digital en salud: Retos reales de la Ingeniería en un hospital público”\, a cargo de la Ing. Ana Sosa. Miércoles 11 de marzo \nHoras: 19:00 Auditorio Central de la UNAE. Dirigida a estudiantes de la Lic. en Análisis de Sistemas Informáticos e Ingeniería Informática y Ciencia de Datos de la Universidad Autónoma de Encarnación. Disertante: Ing. Ana Sosa. Ingeniera Informática. Dpto. TIC del Gran Hospital del Sur.
URL:https://itapua.gov.py/evento/conferencia-transformacion-digital-en-la-salud-retos-reales-de-la-ingenieria-en-un-hospital-p/
LOCATION:Auditorio Central de la UNAE.\, Padre Kreusser entre Independencia Nacional y Honorio González\, Encarnación\, Encarnación\, 6000\, Paraguay
CATEGORIES:Encarnación,Turismo
ATTACH;FMTTYPE=image/jpeg:https://itapua.gov.py/wp-content/uploads/2026/03/AN648477599_1336198781879655_7230889166833181033_n-e1773240668446.jpg
END:VEVENT
BEGIN:VEVENT
DTSTART;TZID=UTC:20260313T110000
DTEND;TZID=UTC:20260328T000000
DTSTAMP:20260421T101414
CREATED:20260311T140736Z
LAST-MODIFIED:20260311T140736Z
UID:34934-1773399600-1774656000@itapua.gov.py
SUMMARY:VIERNES Y SABADO CON BUENA MÚSICA
DESCRIPTION:Marzo trae noches para recordar \n Este mes\, el escenario de Casino Carnaval se llena de música en vivo\, energía y el ambiente perfecto para disfrutar tus fines de semana como se merece.\n\n\n¡Elegí tu show y viví la experiencia!\n\n\n Reservas: +595 993 288 401\n\n\n\nViernes: 13.03.26 Gonza DJ Madrigal\n»              20.03.26 Matias Bareiro y Charly\n»              27.03.26 Bacana\nSábado  14.03.26 César y Daniel DJ Ariel Planas\n»             21.03.26  Alunia\n»              28.03.26 Cristian y la Ruta
URL:https://itapua.gov.py/evento/viernes-y-sabado-con-buena-musica/
LOCATION:Hotel y Casino Carnaval\, Avda. Irrazabal y Gral Cabañas\, Encarnación\, 6000\, Paraguay
CATEGORIES:Encarnación,Turismo
ATTACH;FMTTYPE=image/jpeg:https://itapua.gov.py/wp-content/uploads/2026/03/Hot643579682_17928305949234125_7431166903071416072_n-e1773238027314.jpg
END:VEVENT
BEGIN:VEVENT
DTSTART;TZID=UTC:20260315T183000
DTEND;TZID=UTC:20260315T200000
DTSTAMP:20260421T101414
CREATED:20260313T111701Z
LAST-MODIFIED:20260313T111701Z
UID:34972-1773599400-1773604800@itapua.gov.py
SUMMARY:ROCEMI ACADEMIA INTEGRAL DE ARTE PRESENTA "ROSA"
DESCRIPTION:“ROSA”\n\n\nCortometraje realizado por estudiantes de la Carrera de Cine.\n\n\nSINOPSIS\nTras recibir un diagnóstico devastador\, una joven pareja debe enfrentarse a la fragilidad de sus sueños y al peso de las decisiones que cambiarán su futuro para siempre.\n\n\n Te esperamos en el estreno el 15 de marzo a las 18:30 hs en el Auditorio Paraná.
URL:https://itapua.gov.py/evento/rocemi-academia-integral-de-arte-presenta-rosa/
LOCATION:Auditorio Paraná\, Mcal. Estigarribia y Jorge Memell\, Encarnación\, 6000\, Paraguay
CATEGORIES:Encarnación,Turismo
ATTACH;FMTTYPE=image/jpeg:https://itapua.gov.py/wp-content/uploads/2026/03/ROCEMI651000777_18351429037234512_5837665577363948444_n-e1773400521810.jpg
END:VEVENT
BEGIN:VEVENT
DTSTART;TZID=UTC:20260320T170000
DTEND;TZID=UTC:20260320T183000
DTSTAMP:20260421T101414
CREATED:20260318T143644Z
LAST-MODIFIED:20260318T143740Z
UID:35054-1774026000-1774031400@itapua.gov.py
SUMMARY:48° CONCURSO ANIVERSARIO DEL CLUB PACU CUA\, PESCA VARIADA
DESCRIPTION:¡Se viene el 48° Concurso Aniversario del Club Pacú Cua\n\n\nDos jornadas imperdibles para vivir la pesca como nos gusta: con pasión\, amigos y mucha emoción\n\n\n 20 de marzo\nPesca de costa con devolución\n\n\n21 de marzo\nPesca embarcada con grandes premios \n\n\nDos días\, dos experiencias únicas… y un mismo espíritu: disfrutar\, competir y compartir\n\n\n Premios\, sorteos y muchas sorpresas te esperan\n\n\nSede San Isidro\n Consultas al contacto del flyer\n\n\n¡Sumate y sé parte de esta gran fiesta de la pesca!\n\n\n#ClubPacuCua #ConcursoDePesca #PescaDeportiva #Encarnación #PescaParaguay
URL:https://itapua.gov.py/evento/48-concurso-aniversario-del-club-pacu-cua-pesca-variada/
LOCATION:Sede de San Isidro\, Camino a Itacua\, Encarnación\, 6000\, Paraguay
CATEGORIES:Encarnación,Turismo
ATTACH;FMTTYPE=image/jpeg:https://itapua.gov.py/wp-content/uploads/2026/03/Pesc654026299_18076516511630793_8785328734432316174_n-e1773841528332.jpg
END:VEVENT
BEGIN:VEVENT
DTSTART;TZID=UTC:20260324T080000
DTEND;TZID=UTC:20260324T170000
DTSTAMP:20260421T101414
CREATED:20260324T174549Z
LAST-MODIFIED:20260324T174918Z
UID:35134-1774339200-1774371600@itapua.gov.py
SUMMARY:¡FELIZ ANIVERSARIO 411AÑOS CIUDAD DE ENCARNACIÓN 2026
DESCRIPTION:Felipe Santander \n¡Feliz 411 aniversario ciudad de Encarnación! \n“Encarnación Perla del Paraguay”\nAutor: Felipe Santander \nEl material es un homenaje y un regalo para la ciudad de Encarnación y toda su gente en el marco de su 411° aniversario\, en el cual se resalta la belleza y el espíritu de la ciudad. \n📌Disponible en YouTube https://youtu.be/GaT29JdeaqE?si=ZhGBaU4m-pmasoZQ \nTambién disponible en todas las plataformas digitales para que puedan escucharla y compartirla.
URL:https://itapua.gov.py/evento/feliz-aniversario-411anos-ciudad-de-encarnacion-2026/
CATEGORIES:Encarnación,Turismo
ATTACH;FMTTYPE=image/jpeg:https://itapua.gov.py/wp-content/uploads/2026/03/FFe9b1c4e7-aa39-42b3-81f9-128d8df737f0-e1774373167370.jpg
END:VEVENT
BEGIN:VEVENT
DTSTART;TZID=UTC:20260327T213000
DTEND;TZID=UTC:20260327T233000
DTSTAMP:20260421T101414
CREATED:20260324T165051Z
LAST-MODIFIED:20260324T165051Z
UID:35130-1774647000-1774654200@itapua.gov.py
SUMMARY:SHOW EN VIVO EN CASINO CARNAVAL
DESCRIPTION:Viernes 27 de marzo 2026\nEl carnaval se vive… y se baila \n\n\nBacana llega con un show en vivo para disfrutar la noche del viernes en Casino Carnaval\n\n\nVen con amigos y festeja el carnaval como se debe
URL:https://itapua.gov.py/evento/show-en-vivo-en-casino-carnaval-2/
LOCATION:Hotel y Casino Carnaval\, Avda. Irrazabal y Gral Cabañas\, Encarnación\, 6000\, Paraguay
CATEGORIES:Encarnación,Turismo
ATTACH;FMTTYPE=image/jpeg:https://itapua.gov.py/wp-content/uploads/2026/03/Car656951859_1459481949556242_172520769800863125_n-e1774370836867.jpg
END:VEVENT
BEGIN:VEVENT
DTSTART;TZID=UTC:20260328T190000
DTEND;TZID=UTC:20260328T203000
DTSTAMP:20260421T101414
CREATED:20260317T141312Z
LAST-MODIFIED:20260317T141408Z
UID:35006-1774724400-1774729800@itapua.gov.py
SUMMARY:GALA POETICA Y OBRA TEATRAL\, MIL REICES Y UNA VOZ
DESCRIPTION:Los estudiantes del Nivel Juvenil cierran una etapa maravillosa\nSe preparan para sorprendernos con la presentación “Mil Raíces y una Voz”\, una puesta especial con la que buscan obtener el título de Profesores Superiores de Declamación y la Certificación en Actuación por culminar el Nivel Juvenil.\n\n\n\nTe esperamos el 28 de marzo 19:00 horas en el Auditorio Paraná\nNo te lo pierdas!
URL:https://itapua.gov.py/evento/gala-poetica-y-obra-teatral-mil-reices-y-una-voz/
LOCATION:Auditorio Paraná\, Mcal. Estigarribia y Jorge Memell\, Encarnación\, 6000\, Paraguay
CATEGORIES:Encarnación,Turismo
ATTACH;FMTTYPE=image/jpeg:https://itapua.gov.py/wp-content/uploads/2026/03/RO654013277_18351887149234512_5078948838746211384_n-e1773755386327.jpg
END:VEVENT
BEGIN:VEVENT
DTSTART;TZID=UTC:20260328T210000
DTEND;TZID=UTC:20260328T233000
DTSTAMP:20260421T101414
CREATED:20260319T114132Z
LAST-MODIFIED:20260319T114331Z
UID:35064-1774731600-1774740600@itapua.gov.py
SUMMARY:FINAL PROMO CARNAVAL 2026
DESCRIPTION:Gran Final de la Promo Carnaval 2026 El sábado 28 de marzo haremos la entrega de la Jetour X50 2026 0km  Además\, celebramos con un increíble show que hará vibrar la noche ¡Seguí participando y suma tus chances de ganar!
URL:https://itapua.gov.py/evento/final-promo-carnaval-2026/
LOCATION:Hotel Casino Carnaval\, Avda. Irrazabal y Gral Cabañas\, Encarnación\, 6000\, Paraguay
CATEGORIES:Encarnación,Turismo
ATTACH;FMTTYPE=image/jpeg:https://itapua.gov.py/wp-content/uploads/2026/03/CARN653048660_1453040776867026_935647789382023633_n-e1773920421516.jpg
END:VEVENT
END:VCALENDAR