BEGIN:VCALENDAR
VERSION:2.0
PRODID:-//Gobernación de Itapúa - ECPv6.15.20//NONSGML v1.0//EN
CALSCALE:GREGORIAN
METHOD:PUBLISH
X-WR-CALNAME:Gobernación de Itapúa
X-ORIGINAL-URL:https://itapua.gov.py
X-WR-CALDESC:Eventos para Gobernación de Itapúa
REFRESH-INTERVAL;VALUE=DURATION:PT1H
X-Robots-Tag:noindex
X-PUBLISHED-TTL:PT1H
BEGIN:VTIMEZONE
TZID:UTC
BEGIN:STANDARD
TZOFFSETFROM:+0000
TZOFFSETTO:+0000
TZNAME:UTC
DTSTART:20240101T000000
END:STANDARD
END:VTIMEZONE
BEGIN:VEVENT
DTSTART;VALUE=DATE:20250628
DTEND;VALUE=DATE:20250730
DTSTAMP:20260421T085207
CREATED:20250626T164818Z
LAST-MODIFIED:20250626T164818Z
UID:27018-1751068800-1753833599@itapua.gov.py
SUMMARY:CANOTAJE EN LAS INSTALACIONES DEL CLUB PACU CUÁ.
DESCRIPTION:¡𝗔𝗿𝗿𝗮𝗻𝗰𝗮𝗺𝗼𝘀 𝗲𝗹 𝗮ñ𝗼 𝗰𝗼𝗻 𝗳𝘂𝗲𝗿𝘇𝗮! \nEl 𝐂𝐥𝐮𝐛 𝐏𝐚𝐜𝐮 𝐂𝐮𝐚 se destacó en la 𝐏𝐫𝐢𝐦𝐞𝐫𝐚 𝐅𝐞𝐜𝐡𝐚 𝐝𝐞𝐥 𝐂𝐚𝐦𝐩𝐞𝐨𝐧𝐚𝐭𝐨 𝐍𝐚𝐜𝐢𝐨𝐧𝐚𝐥 𝐝𝐞 𝐂𝐚𝐧𝐨𝐭𝐚𝐣𝐞\, celebrada en las instalaciones del Yacht & Golf Club.\nNuestra delegación de 37 palistas encarnacenos\, entre niños\, jóvenes y adultos\, se lució en cada prueba y nos trajo a casa la Copa CAVEL. \n\n\n Este logro refleja el compromiso\, la pasión y el esfuerzo de toda la familia Pacu Cua\, bajo la dirección técnica del Lic. Erwin Pucheta\, al frente de nuestra Escuela de Canotaje.\n\n\n ¡𝐘 𝐞𝐬𝐭𝐨 𝐫𝐞𝐜𝐢é𝐧 𝐜𝐨𝐦𝐢𝐞𝐧𝐳𝐚!\n𝐄𝐥 𝟐𝟖 𝐲 𝟐𝟗 𝐝𝐞 𝐣𝐮𝐧𝐢𝐨\, 𝐞𝐥 𝐂𝐥𝐮𝐛 𝐏𝐚𝐜𝐮 𝐂𝐮𝐚 𝐬𝐞𝐫á 𝐬𝐞𝐝𝐞 𝐝𝐞 𝐥𝐚 𝐒𝐞𝐠𝐮𝐧𝐝𝐚 𝐅𝐞𝐜𝐡𝐚\, 𝐲 𝐞𝐬𝐩𝐞𝐫𝐚𝐦𝐨𝐬 𝐬𝐞𝐠𝐮𝐢𝐫 𝐝𝐞𝐣𝐚𝐧𝐝𝐨 𝐡𝐮𝐞𝐥𝐥𝐚 𝐞𝐧 𝐜𝐚𝐝𝐚 𝐩𝐚𝐥𝐚𝐝𝐚.\n\n\n ¡Felicitaciones a todos los atletas y gracias por representar tan bien a nuestra ciudad y nuestro club!
URL:https://itapua.gov.py/evento/canotaje-en-las-instalaciones-del-club-pacu-cua/
LOCATION:Club de Casa y Pesca Nautico de Pacu Cuá.\, Costanera San José\, Encarnación\, 6000
CATEGORIES:Encarnación,Turismo
ATTACH;FMTTYPE=image/jpeg:https://itapua.gov.py/wp-content/uploads/2025/06/Ca499923747_1173745161432911_3337300900747203275_n-e1750956285620.jpg
END:VEVENT
BEGIN:VEVENT
DTSTART;TZID=UTC:20250709T080000
DTEND;TZID=UTC:20250810T170000
DTSTAMP:20260421T085207
CREATED:20250709T141457Z
LAST-MODIFIED:20250709T141457Z
UID:27494-1752048000-1754845200@itapua.gov.py
SUMMARY:21° LIBRO FERIA ENCARNACIÓN " VAMOS A LA LibroFeria Encarnación"
DESCRIPTION:¡La Libroferia Encarnación invita a presentar proyectos de lectura hasta el 10 de agosto y ganar premios! Concurso de Animación a la Lectura «Vamos a la Libroferia Encarnación» Dirigido a docentes y responsables de grupos de cualquier edad para liderar proyectos de animación lectora que promueven la lectura y la participación activa de los lectores durante la Libroferia. Presentá tu proyecto hasta el domingo 10 de agosto. Postulación aquí: https://info.unae.edu.py/acl-25
URL:https://itapua.gov.py/evento/21-libro-feria-encarnacion-vamos-a-la-libroferia-encarnacion/
LOCATION:Complejo de la UNAE.\, Padre Kreusser entre Independencia Nacional y Honorio González\, Encarnación\, Encarnación\, 6000\, Paraguay
CATEGORIES:Encarnación,Turismo
ATTACH;FMTTYPE=image/jpeg:https://itapua.gov.py/wp-content/uploads/2025/07/ISED516861335_1135976928568509_5335870239181959484_n-e1752070200472.jpg
END:VEVENT
BEGIN:VEVENT
DTSTART;TZID=UTC:20250710T080000
DTEND;TZID=UTC:20251011T170000
DTSTAMP:20260421T085207
CREATED:20250721T133917Z
LAST-MODIFIED:20250721T134822Z
UID:28671-1752134400-1760202000@itapua.gov.py
SUMMARY:"XII CONGRESO INTERNACIONAL"\, CIENCIA DISEÑO Y TECNOLOGÍA
DESCRIPTION:La Universidad Autónoma de Encarnación invita a profesionales\, egresados y estudiantes a participar del 𝗩𝗜𝗜 𝗖𝗼𝗻𝗴𝗿𝗲𝘀𝗼 𝗜𝗻𝘁𝗲𝗿𝗻𝗮𝗰𝗶𝗼𝗻𝗮𝗹 𝗱𝗲 𝗖𝗶𝗲𝗻𝗰𝗶𝗮\, 𝗗𝗶𝘀𝗲𝗻̃𝗼 𝘆 𝗧𝗲𝗰𝗻𝗼𝗹𝗼𝗴𝗶́𝗮\, que se desarrollará los días 10 y 11 de octubre en el Campus Urbano de la UNAE\, bajo el lema “Ciencia\, diseño y tecnología para la inclusión”. Viernes 10 de octubre   18:30 a 21:30 horas Sábado 11 de octubre   08:00 a 12:00 horas Campus Urbano de la UNAE – Encarnación\, Paraguay.
URL:https://itapua.gov.py/evento/xii-congreso-internacional-ciencia-diseno-y-tecnologia/
LOCATION:Unv. Autónoma UNAE.\, Padre Kreusser entre Independencia Nacional y Honorio González\, Encarnación\, Encarnación\, 6000\, Paraguay
CATEGORIES:Encarnación,Turismo
ATTACH;FMTTYPE=image/jpeg:https://itapua.gov.py/wp-content/uploads/2025/07/DIS517244494_1141546521344883_5980657284086380020_n-e1753104889398.jpg
END:VEVENT
BEGIN:VEVENT
DTSTART;TZID=UTC:20250728T220000
DTEND;TZID=UTC:20250801T233000
DTSTAMP:20260421T085207
CREATED:20250725T153158Z
LAST-MODIFIED:20250725T175010Z
UID:29099-1753740000-1754091000@itapua.gov.py
SUMMARY:"SHOW EN VIVO"\,  CON ALEX CYNCAR
DESCRIPTION:Llega la previa del Día de la Amistad!\nDel 28 de julio al 01 de agosto\, prepárate para vivir días únicos con tus amigos en Casino Carnaval\n🎲 Shows\, torneos\, premios\, karaoke\, bingo y más.\n¡Amarte el plan con tu grupo y ven a compartir con nosotros!\nAvda. Irazábal y Gral. Cabañas – Encarnación\nReserva tu lugar: +595 993 288 401 \n 
URL:https://itapua.gov.py/evento/show-en-vivo-con-alex-cyncar/
LOCATION:Casino Carnaval\, Avda. Irrazabal y Gral Cabañas\, Encarnación\, 6000\, Paraguay
CATEGORIES:Encarnación,Turismo
ATTACH;FMTTYPE=image/jpeg:https://itapua.gov.py/wp-content/uploads/2025/07/Casin518481522_1241126481391791_6506089608549845585_n-e1753457099222.jpg
END:VEVENT
END:VCALENDAR