BEGIN:VCALENDAR
VERSION:2.0
PRODID:-//Gobernación de Itapúa - ECPv6.15.20//NONSGML v1.0//EN
CALSCALE:GREGORIAN
METHOD:PUBLISH
X-WR-CALNAME:Gobernación de Itapúa
X-ORIGINAL-URL:https://itapua.gov.py
X-WR-CALDESC:Eventos para Gobernación de Itapúa
REFRESH-INTERVAL;VALUE=DURATION:PT1H
X-Robots-Tag:noindex
X-PUBLISHED-TTL:PT1H
BEGIN:VTIMEZONE
TZID:UTC
BEGIN:STANDARD
TZOFFSETFROM:+0000
TZOFFSETTO:+0000
TZNAME:UTC
DTSTART:20240101T000000
END:STANDARD
END:VTIMEZONE
BEGIN:VEVENT
DTSTART;TZID=UTC:20250710T080000
DTEND;TZID=UTC:20251011T170000
DTSTAMP:20260421T085206
CREATED:20250721T133917Z
LAST-MODIFIED:20250721T134822Z
UID:28671-1752134400-1760202000@itapua.gov.py
SUMMARY:"XII CONGRESO INTERNACIONAL"\, CIENCIA DISEÑO Y TECNOLOGÍA
DESCRIPTION:La Universidad Autónoma de Encarnación invita a profesionales\, egresados y estudiantes a participar del 𝗩𝗜𝗜 𝗖𝗼𝗻𝗴𝗿𝗲𝘀𝗼 𝗜𝗻𝘁𝗲𝗿𝗻𝗮𝗰𝗶𝗼𝗻𝗮𝗹 𝗱𝗲 𝗖𝗶𝗲𝗻𝗰𝗶𝗮\, 𝗗𝗶𝘀𝗲𝗻̃𝗼 𝘆 𝗧𝗲𝗰𝗻𝗼𝗹𝗼𝗴𝗶́𝗮\, que se desarrollará los días 10 y 11 de octubre en el Campus Urbano de la UNAE\, bajo el lema “Ciencia\, diseño y tecnología para la inclusión”. Viernes 10 de octubre   18:30 a 21:30 horas Sábado 11 de octubre   08:00 a 12:00 horas Campus Urbano de la UNAE – Encarnación\, Paraguay.
URL:https://itapua.gov.py/evento/xii-congreso-internacional-ciencia-diseno-y-tecnologia/
LOCATION:Unv. Autónoma UNAE.\, Padre Kreusser entre Independencia Nacional y Honorio González\, Encarnación\, Encarnación\, 6000\, Paraguay
CATEGORIES:Encarnación,Turismo
ATTACH;FMTTYPE=image/jpeg:https://itapua.gov.py/wp-content/uploads/2025/07/DIS517244494_1141546521344883_5980657284086380020_n-e1753104889398.jpg
END:VEVENT
BEGIN:VEVENT
DTSTART;TZID=UTC:20250822T210000
DTEND;TZID=UTC:20250822T233000
DTSTAMP:20260421T085206
CREATED:20250821T132105Z
LAST-MODIFIED:20250821T132105Z
UID:30249-1755896400-1755905400@itapua.gov.py
SUMMARY:OSVALDO Y TOBIAS CANTERO
DESCRIPTION:Casino Carnaval siempre pensando  en sus clientes preparando y ofreciendo \nun ambiente agradable y divertido. \nNo te pierdas\, te esperamos.!!
URL:https://itapua.gov.py/evento/osvaldo-y-tobias-cantero/
LOCATION:Casino Carnaval\, Avda. Irrazabal y Gral Cabañas\, Encarnación\, 6000\, Paraguay
CATEGORIES:Encarnación,Turismo
ATTACH;FMTTYPE=image/jpeg:https://itapua.gov.py/wp-content/uploads/2025/08/MEN535828984_1171656664987046_6498472934112230631_n-e1755782361751.jpg
END:VEVENT
BEGIN:VEVENT
DTSTART;TZID=UTC:20250822T220000
DTEND;TZID=UTC:20250822T220000
DTSTAMP:20260421T085206
CREATED:20250820T113436Z
LAST-MODIFIED:20250820T113550Z
UID:30203-1755900000-1755900000@itapua.gov.py
SUMMARY:IMPERDIBLES SHOWS EN CASINO CARNAVAL
DESCRIPTION:Osvaldo y Tobías!!!\nAgosto se viene con Show como tu lo espera!! en tu Casino Carnaval.\nEste mes\, la noche es tuya. Desliza y mira lo que preparamos para vos\nEn agosto\, el show lo das vos… Cada Fin de\, el escenario se enciende con propuestas que hacen vibrar el ambiente.
URL:https://itapua.gov.py/evento/imperdibles-shows-en-casino-carnaval/
LOCATION:Casino Carnaval\, Avda. Irrazabal y Gral Cabañas\, Encarnación\, 6000\, Paraguay
CATEGORIES:Encarnación,Turismo
ATTACH;FMTTYPE=image/jpeg:https://itapua.gov.py/wp-content/uploads/2025/08/Car526210898_1247804147390691_8621404065194534324_n-e1755689644494.jpg
END:VEVENT
END:VCALENDAR