BEGIN:VCALENDAR
VERSION:2.0
PRODID:-//Gobernación de Itapúa - ECPv6.15.20//NONSGML v1.0//EN
CALSCALE:GREGORIAN
METHOD:PUBLISH
X-WR-CALNAME:Gobernación de Itapúa
X-ORIGINAL-URL:https://itapua.gov.py
X-WR-CALDESC:Eventos para Gobernación de Itapúa
REFRESH-INTERVAL;VALUE=DURATION:PT1H
X-Robots-Tag:noindex
X-PUBLISHED-TTL:PT1H
BEGIN:VTIMEZONE
TZID:UTC
BEGIN:STANDARD
TZOFFSETFROM:+0000
TZOFFSETTO:+0000
TZNAME:UTC
DTSTART:20240101T000000
END:STANDARD
END:VTIMEZONE
BEGIN:VEVENT
DTSTART;TZID=UTC:20250710T080000
DTEND;TZID=UTC:20251011T170000
DTSTAMP:20260421T085206
CREATED:20250721T133917Z
LAST-MODIFIED:20250721T134822Z
UID:28671-1752134400-1760202000@itapua.gov.py
SUMMARY:"XII CONGRESO INTERNACIONAL"\, CIENCIA DISEÑO Y TECNOLOGÍA
DESCRIPTION:La Universidad Autónoma de Encarnación invita a profesionales\, egresados y estudiantes a participar del 𝗩𝗜𝗜 𝗖𝗼𝗻𝗴𝗿𝗲𝘀𝗼 𝗜𝗻𝘁𝗲𝗿𝗻𝗮𝗰𝗶𝗼𝗻𝗮𝗹 𝗱𝗲 𝗖𝗶𝗲𝗻𝗰𝗶𝗮\, 𝗗𝗶𝘀𝗲𝗻̃𝗼 𝘆 𝗧𝗲𝗰𝗻𝗼𝗹𝗼𝗴𝗶́𝗮\, que se desarrollará los días 10 y 11 de octubre en el Campus Urbano de la UNAE\, bajo el lema “Ciencia\, diseño y tecnología para la inclusión”. Viernes 10 de octubre   18:30 a 21:30 horas Sábado 11 de octubre   08:00 a 12:00 horas Campus Urbano de la UNAE – Encarnación\, Paraguay.
URL:https://itapua.gov.py/evento/xii-congreso-internacional-ciencia-diseno-y-tecnologia/
LOCATION:Unv. Autónoma UNAE.\, Padre Kreusser entre Independencia Nacional y Honorio González\, Encarnación\, Encarnación\, 6000\, Paraguay
CATEGORIES:Encarnación,Turismo
ATTACH;FMTTYPE=image/jpeg:https://itapua.gov.py/wp-content/uploads/2025/07/DIS517244494_1141546521344883_5980657284086380020_n-e1753104889398.jpg
END:VEVENT
BEGIN:VEVENT
DTSTART;TZID=UTC:20250826T160000
DTEND;TZID=UTC:20250827T230000
DTSTAMP:20260421T085206
CREATED:20250819T171903Z
LAST-MODIFIED:20250819T171954Z
UID:30093-1756224000-1756335600@itapua.gov.py
SUMMARY:X GRAN FERIA GASTRÓNOMICA DE LA SANTÍSIMA ENCARNACIÓN
DESCRIPTION:Diócesis de la Santísima Encarnación\nFundación Social Orientación (FSO)\nUniversidad Católica – Campus Itapúa (UCI)\nCon el valioso apoyo de grupos pastorales\, laicales y movimientos eclesiales\n\n\nCUANDO: Martes 26 de agosto\nHORA: De 16:00 a 23:00 hs.\n\n\nDONDE: Calle Juan León Mallorquín\, entre Padre Kreusser y General Cabañas – Explanada de la Catedral\n En el marco del Campeonato Mundial de Rally (WRC) – Paraguay 2025.\n\n\n¿QUÉ ENCONTRARÁS?\nGastronomía típica nacional y regional\nCantina con agua\, jugos naturales y gaseosas\nPrecios accesibles: Gs. 10.000\, 20.000\, 25.000\, 30.000 y 40.000 Gs.\nShow artístico en vivo del folklor nacional e internacional\nMúsica\, danzas.\n\n\nAPOYAN\nSENATUR\nGobernación de Itapúa – Secretaría de Turismo\nMunicipalidad de Encarnación – Dirección de Turismo\, Dirección de Cultura.\n\n\nA BENEFICIO DE:\nOrganización de la Bienal 2026\nGrupos y movimientos eclesiales participantes.\n\n\n¡ IMPORTANTE!\nEn caso de lluvia o mal tiempo\, el evento se traslada al Salón de la Catedral (Calle Cabañas casi Mariscal. Estigarribia).
URL:https://itapua.gov.py/evento/x-gran-feria-gastronomica-de-la-santisima-encarnacion/
LOCATION:Explanada de la Catedral\, Juan León Mallorquín y Cabañas\, Encarnación\, 6000
CATEGORIES:Encarnación,Turismo
ATTACH;FMTTYPE=image/jpeg:https://itapua.gov.py/wp-content/uploads/2025/08/CAT536277707_755519610777978_7950932361169946906_n-e1755623488291.jpg
END:VEVENT
BEGIN:VEVENT
DTSTART;TZID=UTC:20250827T080000
DTEND;TZID=UTC:20250827T170000
DTSTAMP:20260421T085206
CREATED:20250827T140125Z
LAST-MODIFIED:20250827T140125Z
UID:31022-1756281600-1756314000@itapua.gov.py
SUMMARY:100 AÑOS DE LA GUARANIA
DESCRIPTION:Te esperamos no te pierda el Gran Festival Nacional 100 Años de la Guaranía en la Costanera de la ciudad de Encarnación.!! con numerosos Artistas! \n 
URL:https://itapua.gov.py/evento/100-anos-de-la-guarania/
LOCATION:Costanera  de Encarnación\, Costanera San José\, Encarnación\, 6000\, Paraguay
CATEGORIES:Encarnación,Turismo
ATTACH;FMTTYPE=image/jpeg:https://itapua.gov.py/wp-content/uploads/2025/08/CIEbc2c61b4-3c30-4192-8143-7d0d9f3ea13a-e1756302910847.jpg
END:VEVENT
BEGIN:VEVENT
DTSTART;TZID=UTC:20250827T080000
DTEND;TZID=UTC:20250830T180000
DTSTAMP:20260421T085206
CREATED:20250827T150503Z
LAST-MODIFIED:20250827T150503Z
UID:31031-1756281600-1756576800@itapua.gov.py
SUMMARY:GRANJA DON SEVERO
DESCRIPTION:Para aprovechar estos días en familia \n¡ABRIMOS TODOS LOS DÍAS! \nEsta semana sin clases\, los invitamos a visitar la Granja Don Severo y pasar un día diferente en la naturaleza 🤍\nGranja Don Severo\n🌿 Naturaleza\, diversión y tranquilidad para toda la familia 🌿\nFINES DE SEMANA Y FERIADOS\nWhatsapp 0985700117\nLink de nuestra UBICACIÓN
URL:https://itapua.gov.py/evento/granja-don-severo/
LOCATION:Granja don Severo camino a Itacúa.\, camino a Itacúa\, Encarnación\, 6000\, Paraguay
CATEGORIES:Encarnación,Turismo
ATTACH;FMTTYPE=image/jpeg:https://itapua.gov.py/wp-content/uploads/2025/08/GRAN4ba3f01a-66cf-4ca3-a0d2-e89d925f7689-e1756306234851.jpg
END:VEVENT
BEGIN:VEVENT
DTSTART;TZID=UTC:20250827T160000
DTEND;TZID=UTC:20250827T200000
DTSTAMP:20260421T085206
CREATED:20250819T165337Z
LAST-MODIFIED:20250819T165337Z
UID:30092-1756310400-1756324800@itapua.gov.py
SUMMARY:X FERIA GASTRONÓMICA DE LA DIÓCESIS DE LA SANTÍSIMA ENCARNACIÓN "JETPA GUASU"
DESCRIPTION:La Diócesis de la Santísima Encarnación\, la Fundación de Orientación Social y la Universidad Católica – Campus Itapúa unen esfuerzos para la puesta en marcha de la X Feria Gastronómica “Jetopa Guasu”.\n\n\nUn encuentro que combina gastronomía\, cultura y fe\, en el marco del Campeonato Mundial de Rally (WRC) – Paraguay 2025\, para mostrar lo mejor de nuestra tierra a visitantes.\n\n\n27 de agosto – 16:00 horas\n Explanada de la Iglesia Catedral
URL:https://itapua.gov.py/evento/x-feria-gastronomica-de-la-diocesis-de-la-santisima-encarnacion-jetpa-guasu/
LOCATION:Explanada de la Catedral.\, Gral. Cabañas y Juan León Mallorquín\, Encarnación\, 6000\, Paraguay
CATEGORIES:Encarnación,Turismo
END:VEVENT
BEGIN:VEVENT
DTSTART;TZID=UTC:20250827T213000
DTEND;TZID=UTC:20250827T233000
DTSTAMP:20260421T085206
CREATED:20250827T174653Z
LAST-MODIFIED:20250827T174914Z
UID:31036-1756330200-1756337400@itapua.gov.py
SUMMARY:CARNAVAL DE INVIERNO NICHT
DESCRIPTION:Taller de la Replica del Ferroviario \nCarnaval de Invierno Nicht y las demás actividades preparadas: \nDesde el 28 al 30 de agosto en la ciudad de Encarnación y en los lugares de tu preferencias.
URL:https://itapua.gov.py/evento/carnaval-de-invierno-nicht/
LOCATION:Costanera de la Playa San José\, Avda. Costanera Rca. del Py.\, Encarnación\, 6000\, Paraguay
CATEGORIES:Encarnación,Turismo
ATTACH;FMTTYPE=image/jpeg:https://itapua.gov.py/wp-content/uploads/2025/08/ENC539284692_1176602994492413_4164867292584484225_n-e1756316733488.jpg
END:VEVENT
END:VCALENDAR