BEGIN:VCALENDAR
VERSION:2.0
PRODID:-//Gobernación de Itapúa - ECPv6.15.20//NONSGML v1.0//EN
CALSCALE:GREGORIAN
METHOD:PUBLISH
X-WR-CALNAME:Gobernación de Itapúa
X-ORIGINAL-URL:https://itapua.gov.py
X-WR-CALDESC:Eventos para Gobernación de Itapúa
REFRESH-INTERVAL;VALUE=DURATION:PT1H
X-Robots-Tag:noindex
X-PUBLISHED-TTL:PT1H
BEGIN:VTIMEZONE
TZID:UTC
BEGIN:STANDARD
TZOFFSETFROM:+0000
TZOFFSETTO:+0000
TZNAME:UTC
DTSTART:20240101T000000
END:STANDARD
END:VTIMEZONE
BEGIN:VEVENT
DTSTART;TZID=UTC:20250710T080000
DTEND;TZID=UTC:20251011T170000
DTSTAMP:20260419T173145
CREATED:20250721T133917Z
LAST-MODIFIED:20250721T134822Z
UID:28671-1752134400-1760202000@itapua.gov.py
SUMMARY:"XII CONGRESO INTERNACIONAL"\, CIENCIA DISEÑO Y TECNOLOGÍA
DESCRIPTION:La Universidad Autónoma de Encarnación invita a profesionales\, egresados y estudiantes a participar del 𝗩𝗜𝗜 𝗖𝗼𝗻𝗴𝗿𝗲𝘀𝗼 𝗜𝗻𝘁𝗲𝗿𝗻𝗮𝗰𝗶𝗼𝗻𝗮𝗹 𝗱𝗲 𝗖𝗶𝗲𝗻𝗰𝗶𝗮\, 𝗗𝗶𝘀𝗲𝗻̃𝗼 𝘆 𝗧𝗲𝗰𝗻𝗼𝗹𝗼𝗴𝗶́𝗮\, que se desarrollará los días 10 y 11 de octubre en el Campus Urbano de la UNAE\, bajo el lema “Ciencia\, diseño y tecnología para la inclusión”. Viernes 10 de octubre   18:30 a 21:30 horas Sábado 11 de octubre   08:00 a 12:00 horas Campus Urbano de la UNAE – Encarnación\, Paraguay.
URL:https://itapua.gov.py/evento/xii-congreso-internacional-ciencia-diseno-y-tecnologia/
LOCATION:Unv. Autónoma UNAE.\, Padre Kreusser entre Independencia Nacional y Honorio González\, Encarnación\, Encarnación\, 6000\, Paraguay
CATEGORIES:Encarnación,Turismo
ATTACH;FMTTYPE=image/jpeg:https://itapua.gov.py/wp-content/uploads/2025/07/DIS517244494_1141546521344883_5980657284086380020_n-e1753104889398.jpg
END:VEVENT
BEGIN:VEVENT
DTSTART;TZID=UTC:20251001T090000
DTEND;TZID=UTC:20251020T210000
DTSTAMP:20260419T173145
CREATED:20251001T133111Z
LAST-MODIFIED:20251001T133111Z
UID:31865-1759309200-1760994000@itapua.gov.py
SUMMARY:KARAÍ OCTUBRE EN LA UNAE
DESCRIPTION:Ven a disfrutar de Intervenciones Artísticas en Sombrero Pirí\, en el marco de la #AgendaCultural de la UNAE ¡Arte y tradición\, 4ª edición!\n\n\n Habilitación oficial: Miércoles 1 de octubre\n  09:00 hora\n Posterior al acto de habilitación\, se podrá degustar un rico jopará.\n\n\n Expositores:\n Artistas.\n Alumnos de instituciones educativas.\n\n\n Karaí Octubre «Según cuenta la leyenda\, con el inicio de este décimo mes también llega del monte un mítico personaje llamado Karaí Octubre\, es un duende de rasgos duros que porta un desafiante arreador de ysypo y un sombrero pirí»\n\n\nLa muestra permanecerá abierta al público hasta el lunes 20 de octubre.\n\n\n Actividad declarada de Interés Turístico Nacional por la SENATUR.\n\n\n Organiza: APSECART (Asociación Paraguaya del Sur de Educación Creativa y Artística)\n\n\n Universidad Autónoma de Encarnación | Encarnación\, Paraguay. Kreusser entre Honorio González e Independencia.\nwww.unae.edu.py
URL:https://itapua.gov.py/evento/karai-octubre-en-la-unae/
LOCATION:UNAE.\, Padre Kreusser entre Independencia Nacional y Honorio González\, Encarnación\, Encarnación\, 6310\, Paraguay
CATEGORIES:Encarnación,Turismo
ATTACH;FMTTYPE=image/jpeg:https://itapua.gov.py/wp-content/uploads/2025/10/ee556681046_1204450811721120_6963533225855876290_n-e1759325213253.jpg
END:VEVENT
BEGIN:VEVENT
DTSTART;TZID=UTC:20251001T184500
DTEND;TZID=UTC:20251002T200000
DTSTAMP:20260419T173145
CREATED:20250923T150243Z
LAST-MODIFIED:20250923T150243Z
UID:31716-1759344300-1759435200@itapua.gov.py
SUMMARY:CINE JAPONÉS  EN LA UNIVERSIDAD AUTÓNOMA UNAE.
DESCRIPTION:En el marco de nuestra Agenda Cultural\, te invitamos a disfrutar de dos proyecciones del cine japonés.Dirigido a todo público\, con entrada libre y gratuita.Miércoles 1 de octubre \n18:45 horas Jueves 2 de octubre \n18:45 horas Auditorio Central de la UNAE. «Campaign»\, dirigido por Soda Kazuhiro.«Tsugaru lacquer girl»\, dirigido por Tsuruoka Keiko. Organizan: Universidad Autónoma de Encarnación y la Oficina del Cónsul del Japón en Encarnación. Universidad Autónoma de Encarnación | Encarnación\, Paraguay. Kreusser entre Honorio González e Independencia.
URL:https://itapua.gov.py/evento/cine-japones-en-la-universidad-autonoma-unae/
LOCATION:Unv. Autónoma UNAE.\, Padre Kreusser entre Independencia Nacional y Honorio González\, Encarnación\, Encarnación\, 6000\, Paraguay
CATEGORIES:Encarnación,Turismo
ATTACH;FMTTYPE=image/jpeg:https://itapua.gov.py/wp-content/uploads/2025/09/JA550689004_1197036542462547_5568435105860451189_n-e1758639745852.jpg
END:VEVENT
BEGIN:VEVENT
DTSTART;TZID=UTC:20251002T140000
DTEND;TZID=UTC:20251002T220000
DTSTAMP:20260419T173145
CREATED:20251002T131345Z
LAST-MODIFIED:20251002T131345Z
UID:31886-1759413600-1759442400@itapua.gov.py
SUMMARY:"CINEMAPOPCOSTANERA" EL GREAN VIAJE DE TU VIDA.
DESCRIPTION:Te esperamos para disfrutar del cine preparado pata uds. \nllegan a la nueva cartelera del cine!!\nLes esperamos todos los días para disfrutar al máximo \n2×1 en entradas comprando desde la app #ItaúCinemaPop con películas seleccionadas (se pueden aplicar restricciones)
URL:https://itapua.gov.py/evento/cinemapopcostanera-el-grean-viaje-de-tu-vida/
LOCATION:Cinemapopcostanera\, al costado del Schopping costanera\, Encarnación\, 6000
CATEGORIES:Encarnación,Turismo
ATTACH;FMTTYPE=image/jpeg:https://itapua.gov.py/wp-content/uploads/2025/10/Ci5d478a8b-a248-4fab-9f0a-b8767523f14d-e1759410696993.jpg
END:VEVENT
END:VCALENDAR