BEGIN:VCALENDAR
VERSION:2.0
PRODID:-//Gobernación de Itapúa - ECPv6.15.20//NONSGML v1.0//EN
CALSCALE:GREGORIAN
METHOD:PUBLISH
X-ORIGINAL-URL:https://itapua.gov.py
X-WR-CALDESC:Eventos para Gobernación de Itapúa
REFRESH-INTERVAL;VALUE=DURATION:PT1H
X-Robots-Tag:noindex
X-PUBLISHED-TTL:PT1H
BEGIN:VTIMEZONE
TZID:UTC
BEGIN:STANDARD
TZOFFSETFROM:+0000
TZOFFSETTO:+0000
TZNAME:UTC
DTSTART:20240101T000000
END:STANDARD
END:VTIMEZONE
BEGIN:VEVENT
DTSTART;TZID=UTC:20251023T170000
DTEND;TZID=UTC:20251023T190000
DTSTAMP:20260419T185356
CREATED:20251023T112626Z
LAST-MODIFIED:20251023T112626Z
UID:32459-1761238800-1761246000@itapua.gov.py
SUMMARY:TENDENCIAS FESTIVAS DE FIN DE AÑO
DESCRIPTION:Participá de la Capacitación gratuita para MIPYMES! “Tendencias Festivas de Fin de Año»Jueves 23 de octubre \n17:00 horasLugar:  Campus Urbano de la UNAE. Preinscripción: https://info.unae.edu.py/4mzIEHuPara más información\, comunicarse al (0985)638763Ministerio de Industria y Comercio de Paraguay.
URL:https://itapua.gov.py/evento/tendencias-festivas-de-fin-de-ano/
LOCATION:Campus Urbano de la UNAE.\, Padre Kreusser entre Independencia Nacional y Honorio González\, Encarnación\, Encarnación\, 6000\, Paraguay
CATEGORIES:Encarnación,Turismo
ATTACH;FMTTYPE=image/jpeg:https://itapua.gov.py/wp-content/uploads/2025/10/IND571144468_1223812803118254_4211171485870746440_n-e1761218673775.jpg
END:VEVENT
END:VCALENDAR