BEGIN:VCALENDAR
VERSION:2.0
PRODID:-//Gobernación de Itapúa - ECPv6.15.20//NONSGML v1.0//EN
CALSCALE:GREGORIAN
METHOD:PUBLISH
X-ORIGINAL-URL:https://itapua.gov.py
X-WR-CALDESC:Eventos para Gobernación de Itapúa
REFRESH-INTERVAL;VALUE=DURATION:PT1H
X-Robots-Tag:noindex
X-PUBLISHED-TTL:PT1H
BEGIN:VTIMEZONE
TZID:UTC
BEGIN:STANDARD
TZOFFSETFROM:+0000
TZOFFSETTO:+0000
TZNAME:UTC
DTSTART:20240101T000000
END:STANDARD
END:VTIMEZONE
BEGIN:VEVENT
DTSTART;TZID=UTC:20251024T093000
DTEND;TZID=UTC:20251026T110000
DTSTAMP:20260419T173239
CREATED:20251022T135903Z
LAST-MODIFIED:20251022T135903Z
UID:32428-1761298200-1761476400@itapua.gov.py
SUMMARY:CLASES ESPECIALES DE KANGOO JUNP
DESCRIPTION:Este Viernes regresa con toda nuestra clase de KANGOO con el profesor @bejumpergroup \nRecuerda que Algunos de los beneficios de esta clase son:\nQuemar Calorías y Grasa Corporal 🔥\nMejora la Salud Cardiovascular\nFortalece piernas\, glúteos y Abdomen\nGracias a las botas con sistema de rebote\, el impacto sobre rodillas\, tobillos y espalda se reduce hasta un 80%\, ideal para personas con molestias articulares\nMejora el equilibrio y la Coordinación\nLibera estrés y mejora el estado de Ánimo\nFavorece la postura y la estabilidad del Core\nEstimula la circulación y el Sistema linfático \nno te quedes por fuera; Reserva tu lugar.
URL:https://itapua.gov.py/evento/clases-especiales-de-kangoo-junp/
LOCATION:Costanera de la Playa San José\, Avda. Costanera Rca. del Py.\, Encarnación\, 6000\, Paraguay
CATEGORIES:Encarnación,Turismo
ATTACH;FMTTYPE=image/jpeg:https://itapua.gov.py/wp-content/uploads/2025/10/KEIee67123f-786a-4941-95f5-0a19fec2e48e-e1761134290929.jpg
END:VEVENT
BEGIN:VEVENT
DTSTART;TZID=UTC:20251026T180000
DTEND;TZID=UTC:20251026T223000
DTSTAMP:20260419T173239
CREATED:20251023T165404Z
LAST-MODIFIED:20251023T165404Z
UID:32469-1761501600-1761517800@itapua.gov.py
SUMMARY:MIC MASTERS FREESTYLE FINALS
DESCRIPTION:Las palabras arden.El ring\, también. Dom. 26 Octubre \n18:00 horasMIC MASTERS – Freestyle Finals Gs. 1.500.000 en premios 3×2 Pilsen | Fernet | -25% Burgers | Free Entry#theclover #elpoderdelapalabra #micmaster #freestylebattle
URL:https://itapua.gov.py/evento/mic-masters-freestyle-finals/
LOCATION:Clover Pub\, Cabañas esq. Av. Irrazabal\, Encarnación\, 6000\, Paraguay
CATEGORIES:Encarnación,Turismo
ATTACH;FMTTYPE=image/jpeg:https://itapua.gov.py/wp-content/uploads/2025/10/Clover565864458_17908529838251784_2824167988445771092_n-e1761235778496.jpg
END:VEVENT
END:VCALENDAR