BEGIN:VCALENDAR
VERSION:2.0
PRODID:-//Gobernación de Itapúa - ECPv6.15.20//NONSGML v1.0//EN
CALSCALE:GREGORIAN
METHOD:PUBLISH
X-ORIGINAL-URL:https://itapua.gov.py
X-WR-CALDESC:Eventos para Gobernación de Itapúa
REFRESH-INTERVAL;VALUE=DURATION:PT1H
X-Robots-Tag:noindex
X-PUBLISHED-TTL:PT1H
BEGIN:VTIMEZONE
TZID:UTC
BEGIN:STANDARD
TZOFFSETFROM:+0000
TZOFFSETTO:+0000
TZNAME:UTC
DTSTART:20240101T000000
END:STANDARD
END:VTIMEZONE
BEGIN:VEVENT
DTSTART;TZID=UTC:20251104T184500
DTEND;TZID=UTC:20251104T201000
DTSTAMP:20260419T161042
CREATED:20251104T130541Z
LAST-MODIFIED:20251104T130834Z
UID:32742-1762281900-1762287000@itapua.gov.py
SUMMARY:"NOCHE DE GALA ARTISTICA" EN LA UNAE
DESCRIPTION:El Complejo UNAE invita a participar de la Noche de gala artística.\n\n\n Martes 4 de noviembre.\n Auditorio Central de la UNAE.\n Primera función: 18:45 horas\n Segunda función: 20:10 horas\n Acceso libre y gratuito.\n\n\n\n Ensamble Artístico «Regalo de Amor»\, homenaje por el año de la Guaranía.\n\n\n Presentación músico teatral de estudiantes del Programa de Formación Extracurricular de la UNAE: Grupo Vocal Voces de la UNAE\, Ballet Ko’eju Jeroky y el Elenco de Teatro Py’andýi.\n\n\n Universidad Autónoma de Encarnación | Encarnación\, Paraguay. Kreusser entre Honorio González e Independencia.\nwww.unae.edu.py
URL:https://itapua.gov.py/evento/noche-de-gala-artistica-en-la-unae-2/
LOCATION:Auditorio Central de la UNAE.\, Padre Kreusser entre Independencia Nacional y Honorio González\, Encarnación\, Encarnación\, 6000\, Paraguay
CATEGORIES:Encarnación,Turismo
ATTACH;FMTTYPE=image/jpeg:https://itapua.gov.py/wp-content/uploads/2025/11/UNEE574484525_1234683152031219_5180792929348894037_n-e1762261489648.jpg
END:VEVENT
END:VCALENDAR