BEGIN:VCALENDAR
VERSION:2.0
PRODID:-//Gobernación de Itapúa - ECPv6.15.20//NONSGML v1.0//EN
CALSCALE:GREGORIAN
METHOD:PUBLISH
X-ORIGINAL-URL:https://itapua.gov.py
X-WR-CALDESC:Eventos para Gobernación de Itapúa
REFRESH-INTERVAL;VALUE=DURATION:PT1H
X-Robots-Tag:noindex
X-PUBLISHED-TTL:PT1H
BEGIN:VTIMEZONE
TZID:UTC
BEGIN:STANDARD
TZOFFSETFROM:+0000
TZOFFSETTO:+0000
TZNAME:UTC
DTSTART:20240101T000000
END:STANDARD
END:VTIMEZONE
BEGIN:VEVENT
DTSTART;TZID=UTC:20251108T100000
DTEND;TZID=UTC:20251108T233000
DTSTAMP:20260419T161041
CREATED:20251105T140922Z
LAST-MODIFIED:20251105T141149Z
UID:32779-1762596000-1762644600@itapua.gov.py
SUMMARY:"MÚSICA EN VIVO CON FELIPE SANTANDER"
DESCRIPTION:Sábado 08 de noviembre a disfrutar con Felipe Santander. \nCuando el vino y la gastronomía se encuentran\, nace una experiencia para los sentidos. Noche de maridaje: sabores que cuentan historias.
URL:https://itapua.gov.py/evento/musica-en-vivo-con-felipe-santander/
LOCATION:Casino Carnaval.\, Avda. Irrazabal y Gral Cabañas\, Encarnación\, 6000\, Paraguay
CATEGORIES:Encarnación,Turismo
ATTACH;FMTTYPE=image/jpeg:https://itapua.gov.py/wp-content/uploads/2025/11/Casi572977661_17914669209234125_8580470025473372385_n-1-e1762351717122.jpg
END:VEVENT
BEGIN:VEVENT
DTSTART;TZID=UTC:20251108T193000
DTEND;TZID=UTC:20251108T233000
DTSTAMP:20260419T161041
CREATED:20251015T142843Z
LAST-MODIFIED:20251015T142843Z
UID:32141-1762630200-1762644600@itapua.gov.py
SUMMARY:FESTIVAL DEL PARANÁ 26 EDICIÓN 2025
DESCRIPTION:Llega el gran Festival del Paraná en su 26 Edición 2025 en la Pérgola de la Playa San José\, los \nArtistas confirmados son: Los Tigres de Encarnación \nYesica y Emanuel \nLas Paraguayitas \nAlejandro Simón y su Dinastía \nFusión de Talentos
URL:https://itapua.gov.py/evento/festival-del-parana-26-edicion-2025/
LOCATION:Pergola de la Playa San José\, Costanera Rep. del Paraguay\, Encarnación\, 6000\, Paraguay
CATEGORIES:Encarnación,Turismo
ATTACH;FMTTYPE=image/jpeg:https://itapua.gov.py/wp-content/uploads/2025/10/TIG565890205_17896313514335778_3625328602463948614_n-e1760538426430.jpg
ORGANIZER;CN="Asociaci%C3%B3n Folklorica Emiliano R. Fern%C3%A1ndez":MAILTO:asocemilianorfernandez@gmail.com
END:VEVENT
END:VCALENDAR