BEGIN:VCALENDAR
VERSION:2.0
PRODID:-//Gobernación de Itapúa - ECPv6.15.20//NONSGML v1.0//EN
CALSCALE:GREGORIAN
METHOD:PUBLISH
X-ORIGINAL-URL:https://itapua.gov.py
X-WR-CALDESC:Eventos para Gobernación de Itapúa
REFRESH-INTERVAL;VALUE=DURATION:PT1H
X-Robots-Tag:noindex
X-PUBLISHED-TTL:PT1H
BEGIN:VTIMEZONE
TZID:UTC
BEGIN:STANDARD
TZOFFSETFROM:+0000
TZOFFSETTO:+0000
TZNAME:UTC
DTSTART:20240101T000000
END:STANDARD
END:VTIMEZONE
BEGIN:VEVENT
DTSTART;TZID=UTC:20251109T073000
DTEND;TZID=UTC:20251109T163000
DTSTAMP:20260419T160943
CREATED:20251027T171535Z
LAST-MODIFIED:20251027T171616Z
UID:32521-1762673400-1762705800@itapua.gov.py
SUMMARY:LA GRAN FINAL DEL CAMPEONATO REGIONAL DE LA FIC!!
DESCRIPTION:¡Se viene la GRAN FINAL del Campeonato Regional de la FIC! \n\n\nEl 09 de noviembre de 2025 marcará el cierre de una apasionante temporada del Campeonato Regional de la Federación Itapuense de Ciclismo (FIC).\n\nUna competencia que une a toda la región\, con 14 equipos participantes: 9 de Itapúa y 5 de Misiones\n\n\nLa última fecha estará a cargo del Encar Cycling Adventure Team\, quienes organizan la etapa final\, denominada simplemente… “LA FINAL”\n\n\n\n La Premiación de los Campeones Regionales será el viernes 14 de noviembre\, en el Salón Auditorio de la Gobernación de Itapúa.\nSe reconocerá a los campeones individuales\, por categoría y al Campeón por Equipos
URL:https://itapua.gov.py/evento/la-gran-final-del-campeonato-regional-de-la-fic/
LOCATION:Encarnación\, Encarnación\, 6000\, Paraguay
CATEGORIES:Encarnación,Turismo
ATTACH;FMTTYPE=image/jpeg:https://itapua.gov.py/wp-content/uploads/2025/10/cicling566216300_1112906977666432_3989112457483069464_n-e1761585269909.jpg
END:VEVENT
END:VCALENDAR