BEGIN:VCALENDAR
VERSION:2.0
PRODID:-//Gobernación de Itapúa - ECPv6.15.20//NONSGML v1.0//EN
CALSCALE:GREGORIAN
METHOD:PUBLISH
X-ORIGINAL-URL:https://itapua.gov.py
X-WR-CALDESC:Eventos para Gobernación de Itapúa
REFRESH-INTERVAL;VALUE=DURATION:PT1H
X-Robots-Tag:noindex
X-PUBLISHED-TTL:PT1H
BEGIN:VTIMEZONE
TZID:UTC
BEGIN:STANDARD
TZOFFSETFROM:+0000
TZOFFSETTO:+0000
TZNAME:UTC
DTSTART:20240101T000000
END:STANDARD
END:VTIMEZONE
BEGIN:VEVENT
DTSTART;TZID=UTC:20251110T000000
DTEND;TZID=UTC:20251114T000000
DTSTAMP:20260419T160945
CREATED:20251106T132355Z
LAST-MODIFIED:20251106T132355Z
UID:32815-1762732800-1763078400@itapua.gov.py
SUMMARY:SEMANA INTERNACIONAL DE LA UNAE. 2025
DESCRIPTION:¡La UNAE abre sus puertas al mundo! SEMANA INTERNACIONAL UNAE 2025 Del lunes 10 al viernes 14 de noviembre. Campus Urbano de la UNAE.Una semana de cooperación\, aprendizaje y experiencias globales\, con la participación de delegaciones de Finlandia \, Brasil \, Rumanía \, Portugal \, Colombia  y Paraguay 
URL:https://itapua.gov.py/evento/semana-internacional-de-la-unae-2025-2/
LOCATION:Campus Urbano de la UNAE.\, Padre Kreusser entre Independencia Nacional y Honorio González\, Encarnación\, Encarnación\, 6000\, Paraguay
CATEGORIES:Encarnación,Turismo
ATTACH;FMTTYPE=image/jpeg:https://itapua.gov.py/wp-content/uploads/2025/11/UNAE577051499_1235743705258497_4258928720101211377_n-e1762435397468.jpg
END:VEVENT
END:VCALENDAR