BEGIN:VCALENDAR
VERSION:2.0
PRODID:-//Gobernación de Itapúa - ECPv6.15.20//NONSGML v1.0//EN
CALSCALE:GREGORIAN
METHOD:PUBLISH
X-ORIGINAL-URL:https://itapua.gov.py
X-WR-CALDESC:Eventos para Gobernación de Itapúa
REFRESH-INTERVAL;VALUE=DURATION:PT1H
X-Robots-Tag:noindex
X-PUBLISHED-TTL:PT1H
BEGIN:VTIMEZONE
TZID:UTC
BEGIN:STANDARD
TZOFFSETFROM:+0000
TZOFFSETTO:+0000
TZNAME:UTC
DTSTART:20240101T000000
END:STANDARD
END:VTIMEZONE
BEGIN:VEVENT
DTSTART;TZID=UTC:20251113T140000
DTEND;TZID=UTC:20251119T150000
DTSTAMP:20260419T161041
CREATED:20251113T162117Z
LAST-MODIFIED:20251113T162117Z
UID:32954-1763042400-1763564400@itapua.gov.py
SUMMARY:CINE MAX EN 3D
DESCRIPTION:Este fin de semana tu cartelera te presenta las siguientes funciones\nAtrévete a vivir la acción desde la pantalla grande\, te esperamos en #Cinemax3D\nen los siguientes horarios:\n14:00 horas\n15:00\n17:50\n20:10
URL:https://itapua.gov.py/evento/cine-max-en-3d/
LOCATION:Cine Max\, Avda. Japón esquina Reverchón\, Encarnación\, 6000\, Paraguay
CATEGORIES:Encarnación,Turismo
ATTACH;FMTTYPE=image/jpeg:https://itapua.gov.py/wp-content/uploads/2025/11/CINEM575283060_18546214687016116_8535114458619060862_n-e1763050422778.jpg
END:VEVENT
BEGIN:VEVENT
DTSTART;TZID=UTC:20251114T080000
DTEND;TZID=UTC:20251116T170000
DTSTAMP:20260419T161041
CREATED:20251114T133354Z
LAST-MODIFIED:20251114T133354Z
UID:32986-1763107200-1763312400@itapua.gov.py
SUMMARY:TE PRESENTAMOS LA  AGENDA PARA FIN DE SEMANA
DESCRIPTION:Te compartimos todo lo que la ciudad tiene preparada esta semana para que no te quedes en casa\, ven a disfrutar de las actividades del 14 al 16 de noviembre\n\n\nCada semana\, nuestra ciudad se llena de movimiento\, con espacios para disfrutar\, compartir y seguir construyendo comunidad.\n\n\nEncarnación ofrece propuestas para todos: momentos de encuentro\, actividades en los barrios y oportunidades para vivir la ciudad con energía y participación.\n\n\n ¡Sumate y viví Encarnación todos los días!
URL:https://itapua.gov.py/evento/te-presentamos-la-agenda-para-fin-de-semana/
LOCATION:Uni\, Casino Carnaval y en Mixtape Golden Ace\, Diferentes lugares de eventos\, Encarnación\, 6000\, Paraguay
CATEGORIES:Encarnación,Turismo
ATTACH;FMTTYPE=image/jpeg:https://itapua.gov.py/wp-content/uploads/2025/11/Vier581499513_1243757697776942_6182359388588694572_n-e1763126982488.jpg
END:VEVENT
END:VCALENDAR