BEGIN:VCALENDAR
VERSION:2.0
PRODID:-//Gobernación de Itapúa - ECPv6.15.20//NONSGML v1.0//EN
CALSCALE:GREGORIAN
METHOD:PUBLISH
X-ORIGINAL-URL:https://itapua.gov.py
X-WR-CALDESC:Eventos para Gobernación de Itapúa
REFRESH-INTERVAL;VALUE=DURATION:PT1H
X-Robots-Tag:noindex
X-PUBLISHED-TTL:PT1H
BEGIN:VTIMEZONE
TZID:UTC
BEGIN:STANDARD
TZOFFSETFROM:+0000
TZOFFSETTO:+0000
TZNAME:UTC
DTSTART:20240101T000000
END:STANDARD
END:VTIMEZONE
BEGIN:VEVENT
DTSTART;TZID=UTC:20251117T080000
DTEND;TZID=UTC:20251125T170000
DTSTAMP:20260419T160944
CREATED:20251104T151122Z
LAST-MODIFIED:20251104T151122Z
UID:32756-1763366400-1764090000@itapua.gov.py
SUMMARY:LLEGA EL 13° FESTIVAL INTERNACIONAL DE TEATRO-FITE 2026
DESCRIPTION:¡Convocatoria abierta!\nLlega el 13° Festival Internacional de Teatro – FITE 2026\nEncarnación\, Paraguay |\nDel 17 al 25 de abril de 2026\n\n\nBajo el lema “Unidos por el arte\, sin barreras\, sin fronteras”\, abrimos nuestras puertas a compañías\, elencos y artistas de todo el mundo.\n Postulá tu obra y sé parte de uno de los encuentros teatrales más importantes de la región.\n\n\n Fecha límite de postulación: 28 de noviembre de 2025\nFormulario de inscripción en el link de la bio o en:\n https://forms.gle/8UyJ4cFr1aHNpy2G6r\n\n\n Consultas: festivaldeteatrofite@gmail.com\n WhatsApp: +595983007873
URL:https://itapua.gov.py/evento/llega-el-13-festival-internacional-de-teatro-fite-2026/
LOCATION:Auditorio Paraná\, Mcal. Estigarribia y Jorge Memell\, Encarnación\, 6000\, Paraguay
CATEGORIES:Encarnación,Turismo
ATTACH;FMTTYPE=image/jpeg:https://itapua.gov.py/wp-content/uploads/2025/11/Roo572028446_816213614485972_8952699371558195060_n-e1762269031813.jpg
END:VEVENT
BEGIN:VEVENT
DTSTART;VALUE=DATE:20251122
DTEND;VALUE=DATE:20251123
DTSTAMP:20260419T160944
CREATED:20251113T124611Z
LAST-MODIFIED:20251113T124611Z
UID:32949-1763769600-1763855999@itapua.gov.py
SUMMARY:46° EDICIÓN DE LA MEDIA MARATÓN DEL ASFALTO
DESCRIPTION:TIER 2 DISPONIBLE\nLa Media Maratón del Asfalto de Encarnación sigue sumando corredores a su edición 46.\n\n\nEl primer lote voló… ahora arranca el TIER 2\, con nuevos precios y los cupos cada vez más cerca de agotarse.\n Sentí la energía\, corre las calles más lindas del país y viví la fiesta que solo Encarnación sabe dar. Un legado que late en cada kilómetro.\n\n\n Sábado 22 de noviembre\nEl asfalto te espera. La historia te convoca.\n\n\n46° edición… y vos sos parte de esta leyenda.\n\n\n LINK EN BIO
URL:https://itapua.gov.py/evento/46-edicion-de-la-media-maraton-del-asfalto/
LOCATION:Costanera Encarnación\, Costanera San José\, Encarnación\, 6000\, Paraguay
CATEGORIES:Encarnación,Turismo
ATTACH;FMTTYPE=image/jpeg:https://itapua.gov.py/wp-content/uploads/2025/11/mARA564568804_18388554760131986_9085244252055363879_n-e1763037542313.jpg
END:VEVENT
END:VCALENDAR