BEGIN:VCALENDAR
VERSION:2.0
PRODID:-//Gobernación de Itapúa - ECPv6.15.20//NONSGML v1.0//EN
CALSCALE:GREGORIAN
METHOD:PUBLISH
X-WR-CALNAME:Gobernación de Itapúa
X-ORIGINAL-URL:https://itapua.gov.py
X-WR-CALDESC:Eventos para Gobernación de Itapúa
REFRESH-INTERVAL;VALUE=DURATION:PT1H
X-Robots-Tag:noindex
X-PUBLISHED-TTL:PT1H
BEGIN:VTIMEZONE
TZID:UTC
BEGIN:STANDARD
TZOFFSETFROM:+0000
TZOFFSETTO:+0000
TZNAME:UTC
DTSTART:20240101T000000
END:STANDARD
END:VTIMEZONE
BEGIN:VEVENT
DTSTART;TZID=UTC:20251201T180000
DTEND;TZID=UTC:20251208T200000
DTSTAMP:20260419T150239
CREATED:20251201T134049Z
LAST-MODIFIED:20251201T134049Z
UID:33217-1764612000-1765224000@itapua.gov.py
SUMMARY:FESTIVIDAD DE LA VIUERGEN DE ITACÚA AÑO 2025
DESCRIPTION:PROGRAMA DE LA FIESTA PATRONAL DE LA VIRGEN DE ITACUÁ 2025El Santuario de la Virgen de Itacúa presenta el cronograma en honor a la Virgen\, en preparación para su festividad el viernes 8 de diciembre.
URL:https://itapua.gov.py/evento/festividad-de-la-viuergen-de-itacua-ano-2025/
LOCATION:Santuario de Itacuá\, Camino a Itacúa a 9 km de Encarnación\, Encarnación\, 6000\, Paraguay
CATEGORIES:Encarnación,Turismo
ATTACH;FMTTYPE=image/jpeg:https://itapua.gov.py/wp-content/uploads/2025/12/VIRG592094373_1516705426566817_7958122794302044436_n-e1764594255382.jpg
END:VEVENT
END:VCALENDAR