BEGIN:VCALENDAR
VERSION:2.0
PRODID:-//Gobernación de Itapúa - ECPv6.15.20//NONSGML v1.0//EN
CALSCALE:GREGORIAN
METHOD:PUBLISH
X-WR-CALNAME:Gobernación de Itapúa
X-ORIGINAL-URL:https://itapua.gov.py
X-WR-CALDESC:Eventos para Gobernación de Itapúa
REFRESH-INTERVAL;VALUE=DURATION:PT1H
X-Robots-Tag:noindex
X-PUBLISHED-TTL:PT1H
BEGIN:VTIMEZONE
TZID:UTC
BEGIN:STANDARD
TZOFFSETFROM:+0000
TZOFFSETTO:+0000
TZNAME:UTC
DTSTART:20240101T000000
END:STANDARD
END:VTIMEZONE
BEGIN:VEVENT
DTSTART;TZID=UTC:20251203T100000
DTEND;TZID=UTC:20251222T110000
DTSTAMP:20260419T150540
CREATED:20251202T131041Z
LAST-MODIFIED:20251202T131101Z
UID:33231-1764756000-1766401200@itapua.gov.py
SUMMARY:LANZAM OS CLASES DE AQUAGYM
DESCRIPTION:Hermosa oportunidad te presentamos el Lanzamos Clases de Aquagym El Aquagym beneficia tanto a las personas que buscan un poco de relajación como a las que quieren fortalecer su masa muscular  0985 510510Bella Vista Sur\, Itapúa
URL:https://itapua.gov.py/evento/lanzam-os-clases-de-aquagym/
LOCATION:Hotel y Restauran Encanto Rural\, Av. Marcial Samaniego.\, Bella Vista\, 6310\, Paraguay
CATEGORIES:Bella Vista,Encarnación,Turismo
ATTACH;FMTTYPE=image/jpeg:https://itapua.gov.py/wp-content/uploads/2025/12/GYM573637485_18431411122100947_4818427552041951993_n-e1764680999357.jpg
END:VEVENT
BEGIN:VEVENT
DTSTART;TZID=UTC:20251211T170000
DTEND;TZID=UTC:20251211T190000
DTSTAMP:20260419T150540
CREATED:20251205T150436Z
LAST-MODIFIED:20251205T150537Z
UID:33253-1765472400-1765479600@itapua.gov.py
SUMMARY:"TENDENCIAS PARA 2026" CON MIPYMES
DESCRIPTION:¡Participá de la Capacitación gratuita para MIPYMES! “Tendencias para 2026: Lo que tenés que saber» Jueves 11 de diciembre \n17:00 horas Lugar: Campus Urbano de la UNAE. Preinscripción: https://info.unae.edu.py/48xV3Id Para más información\, comunicarse al (0985)638763 Ministerio de Industria y Comercio de Paraguay.
URL:https://itapua.gov.py/evento/tendencias-para-2026-con-mipymes/
LOCATION:Campus Urbano de la UNAE.\, Padre Kreusser entre Independencia Nacional y Honorio González\, Encarnación\, Encarnación\, 6000\, Paraguay
CATEGORIES:Encarnación,Turismo
ATTACH;FMTTYPE=image/jpeg:https://itapua.gov.py/wp-content/uploads/2025/12/MIPY592508605_1257090763123791_8001698923110269548_n-1-e1764947009790.jpg
END:VEVENT
BEGIN:VEVENT
DTSTART;TZID=UTC:20251211T193000
DTEND;TZID=UTC:20251211T220000
DTSTAMP:20260419T150540
CREATED:20251211T172224Z
LAST-MODIFIED:20251211T172224Z
UID:33367-1765481400-1765490400@itapua.gov.py
SUMMARY:GRAN APERTURA DE VERANO 2025-2026
DESCRIPTION:¡ARRANCA LA TEMPORADA MÁS ESPERADA! La temporada de verano 2025–2026 inicia con toda la energía . Este jueves 11 de diciembre\, desde las 19:30 horas\, la Pérgola de la Playa San José será el escenario de la Gran Apertura Verano Encarnación 2025\, el primer gran encuentro que encenderá la ciudad.La noche contará con la fuerza musical de los DJs Guillermo Atencio y Guillermo Acuña\, en una producción conjunta entre Puertas del Sur y la Dirección de Turismo de la Municipalidad de Encarnación\, dando inicio oficial a una temporada que promete vibrar con experiencias\, cultura y mucha emoción.Encarnación vive el verano… ¡y lo empezamos a celebrar juntos!
URL:https://itapua.gov.py/evento/gran-apertura-de-verano-2025-2026/
LOCATION:En la Pergola de la Playa San José\, Costanera San José\, Encarnación\, 6000
CATEGORIES:Encarnación,Turismo
ATTACH;FMTTYPE=image/jpeg:https://itapua.gov.py/wp-content/uploads/2025/12/Aten598673161_1265255125627199_8937525915232347734_n-e1765467676247.jpg
END:VEVENT
END:VCALENDAR