BEGIN:VCALENDAR
VERSION:2.0
PRODID:-//Gobernación de Itapúa - ECPv6.15.20//NONSGML v1.0//EN
CALSCALE:GREGORIAN
METHOD:PUBLISH
X-WR-CALNAME:Gobernación de Itapúa
X-ORIGINAL-URL:https://itapua.gov.py
X-WR-CALDESC:Eventos para Gobernación de Itapúa
REFRESH-INTERVAL;VALUE=DURATION:PT1H
X-Robots-Tag:noindex
X-PUBLISHED-TTL:PT1H
BEGIN:VTIMEZONE
TZID:UTC
BEGIN:STANDARD
TZOFFSETFROM:+0000
TZOFFSETTO:+0000
TZNAME:UTC
DTSTART:20240101T000000
END:STANDARD
END:VTIMEZONE
BEGIN:VEVENT
DTSTART;TZID=UTC:20251203T100000
DTEND;TZID=UTC:20251222T110000
DTSTAMP:20260419T150444
CREATED:20251202T131041Z
LAST-MODIFIED:20251202T131101Z
UID:33231-1764756000-1766401200@itapua.gov.py
SUMMARY:LANZAM OS CLASES DE AQUAGYM
DESCRIPTION:Hermosa oportunidad te presentamos el Lanzamos Clases de Aquagym El Aquagym beneficia tanto a las personas que buscan un poco de relajación como a las que quieren fortalecer su masa muscular  0985 510510Bella Vista Sur\, Itapúa
URL:https://itapua.gov.py/evento/lanzam-os-clases-de-aquagym/
LOCATION:Hotel y Restauran Encanto Rural\, Av. Marcial Samaniego.\, Bella Vista\, 6310\, Paraguay
CATEGORIES:Bella Vista,Encarnación,Turismo
ATTACH;FMTTYPE=image/jpeg:https://itapua.gov.py/wp-content/uploads/2025/12/GYM573637485_18431411122100947_4818427552041951993_n-e1764680999357.jpg
END:VEVENT
BEGIN:VEVENT
DTSTART;TZID=UTC:20251212T213000
DTEND;TZID=UTC:20251229T000000
DTSTAMP:20260419T150444
CREATED:20251210T131049Z
LAST-MODIFIED:20251210T131049Z
UID:33349-1765575000-1766966400@itapua.gov.py
SUMMARY:SHOW EN VIVO CON  DIFERENTES ARTISTAS EN CASINO CARNAVAL
DESCRIPTION:Te presentamos un espectáculos de Show en vivo  con los diferentes artistas en Casino Carnaval y las fecha que estarán \nesperando tu presencia para disfrutar juntos!! \n12/12/2025 Bacana desde Posadas \n19/12/2025 Alex Cyncar \n26/12/2025 La Nueva Banda y \n29/12/2025 Diego Botger
URL:https://itapua.gov.py/evento/show-en-vivo-con-diferentes-artistas-en-casino-carnaval/
LOCATION:Casino Carnaval\, Avda. Irrazabal y Gral Cabañas\, Encarnación\, 6000\, Paraguay
CATEGORIES:Encarnación,Turismo
ATTACH;FMTTYPE=image/jpeg:https://itapua.gov.py/wp-content/uploads/2025/12/Carna589067618_17917850010234125_6650033121856462331_n-e1765372227488.jpg
END:VEVENT
BEGIN:VEVENT
DTSTART;TZID=UTC:20251216T150000
DTEND;TZID=UTC:20251230T163000
DTSTAMP:20260419T150444
CREATED:20251210T120016Z
LAST-MODIFIED:20251210T120016Z
UID:33340-1765897200-1767112200@itapua.gov.py
SUMMARY:GIMNASIA ARTÍSTICA CON ROCEMI
DESCRIPTION:Te esperamos para aprender juntos y disfrutar!!!\n¡Salta\, juga y aprende con nosotros este verano! Inscripciones abiertas para Gimnasia Artística con el instructor certificado\nHorarios : de 15:00 a 16:30\nLos díasMartes y jueves#Rocemi #gimnasiaartística #Encarnacion
URL:https://itapua.gov.py/evento/gimnasia-artistica-con-rocemi/
LOCATION:Instituto Integral Rocemi\, Mcal. Estigarribia y Jorge Memell\, Encarnación\, 6000\, Paraguay
CATEGORIES:Encarnación,Turismo
ATTACH;FMTTYPE=image/jpeg:https://itapua.gov.py/wp-content/uploads/2025/12/Roce590992586_18339595843234512_851210374313207179_n-e1765367007600.jpg
END:VEVENT
BEGIN:VEVENT
DTSTART;TZID=UTC:20251220T200000
DTEND;TZID=UTC:20251220T223000
DTSTAMP:20260419T150444
CREATED:20251218T132819Z
LAST-MODIFIED:20251218T132842Z
UID:33602-1766260800-1766269800@itapua.gov.py
SUMMARY:NAVIDAD 2025 CON LOS HERALDO DEL BRASIL
DESCRIPTION:NAVIDAD JUNTO AL PARANÁ Ven a vibrar una noche única donde la música y el espíritu navideño se unen a orillas del río Paraná. Participan:Coro Infantil del Centro Municipal de ArteCoro Infantil de la Gobernación de ItapúaCoro y Orquesta de Los Heraldos del EvangelioEnsamble Folclórico y el Ensamble Fusión de la Orquesta Sinfónica NacionalSábado 20 de diciembre 2025 20:00 horas \nLugar Pérgola de la Playa San José Organizan: La Gobernación de Itapúa y la Municipalidad de Encarnación.
URL:https://itapua.gov.py/evento/navidad-2025-con-los-heraldo-del-brasil/
LOCATION:La Pergola de la Playa San José\, Costanera San José\, Encarnación\, 6000\, Paraguay
CATEGORIES:Encarnación,Turismo
ATTACH;FMTTYPE=image/jpeg:https://itapua.gov.py/wp-content/uploads/2025/12/LOS600396615_1153421386960289_1829840173081058032_n-e1766064427888.jpg
END:VEVENT
BEGIN:VEVENT
DTSTART;TZID=UTC:20251220T213000
DTEND;TZID=UTC:20251220T233000
DTSTAMP:20260419T150444
CREATED:20251219T200639Z
LAST-MODIFIED:20251219T200639Z
UID:33647-1766266200-1766273400@itapua.gov.py
SUMMARY:LOS FORACKS A PURA CUMBIA
DESCRIPTION:Plan perfecto para el sábado llegan desde Posadas LOS FORACKS\, cumbia \npara prender la noche a pura cumbia!! \nNo te lo pierdas te esperamos a vibrar la noche.
URL:https://itapua.gov.py/evento/los-foracks-a-pura-cumbia/
LOCATION:Hotel Casino Carnaval\, Avda. Irrazabal y Gral Cabañas\, Encarnación\, 6000\, Paraguay
CATEGORIES:Encarnación,Turismo
ATTACH;FMTTYPE=image/jpeg:https://itapua.gov.py/wp-content/uploads/2025/12/car601438147_1375435024627602_1993179018386684183_n-e1766174782215.jpg
END:VEVENT
END:VCALENDAR