BEGIN:VCALENDAR
VERSION:2.0
PRODID:-//Gobernación de Itapúa - ECPv6.15.20//NONSGML v1.0//EN
CALSCALE:GREGORIAN
METHOD:PUBLISH
X-WR-CALNAME:Gobernación de Itapúa
X-ORIGINAL-URL:https://itapua.gov.py
X-WR-CALDESC:Eventos para Gobernación de Itapúa
REFRESH-INTERVAL;VALUE=DURATION:PT1H
X-Robots-Tag:noindex
X-PUBLISHED-TTL:PT1H
BEGIN:VTIMEZONE
TZID:UTC
BEGIN:STANDARD
TZOFFSETFROM:+0000
TZOFFSETTO:+0000
TZNAME:UTC
DTSTART:20250101T000000
END:STANDARD
END:VTIMEZONE
BEGIN:VEVENT
DTSTART;TZID=UTC:20260117T180000
DTEND;TZID=UTC:20260117T180000
DTSTAMP:20260419T160528
CREATED:20260116T121416Z
LAST-MODIFIED:20260116T133919Z
UID:33809-1768672800-1768672800@itapua.gov.py
SUMMARY:TERCERA EDICIÓN 2026 INAUGURACRIÓN  DEL CAMPEONATO INTERDISDTRITAL
DESCRIPTION:⚽🎉 INAUGURACIÓN DEL CAMPEONATO INTERDISTRITAL DE FÚTBOL ITAPÚA 2026 🎉 \nLa Gobernación de Itapúa\, junto a los Municipios del departamento\, tiene el honor de invitar a toda la ciudadanía a la gran inauguración del Campeonato Interdistrital de Fútbol Itapúa 2026.\nVivamos juntos una jornada llena de deporte\, alegría y emoción\, acompañando a los niños y jóvenes de los distintos distritos de Itapúa. 💙⚽\n📅 Sábado 17 de enero\n🕕 Desde las 18:00 hs\n📍 Estadio UENO – Villa Alegre\n👉 ¡Les esperamos para compartir un momento inolvidable en familia!\n#Itapúa2026 #CampeonatoInterdistrital #DeporteEsFuturo #ItapúaLugarDeOportunidades
URL:https://itapua.gov.py/evento/tercera-edicion-2026-inauguracrion-del-campeonato-interdisdtrital/
LOCATION:Villa Alegre\, Barrio Chaipe\, Encarnación\, 6000\, Paraguay
CATEGORIES:Encarnación,Turismo
ATTACH;FMTTYPE=image/jpeg:https://itapua.gov.py/wp-content/uploads/2026/01/Tor81c14c98-6fc3-4dc0-8855-a0f8963276d6-e1768564137987.jpg
END:VEVENT
BEGIN:VEVENT
DTSTART;TZID=UTC:20260117T180000
DTEND;TZID=UTC:20260117T200000
DTSTAMP:20260419T160528
CREATED:20260116T180645Z
LAST-MODIFIED:20260116T180645Z
UID:33870-1768672800-1768680000@itapua.gov.py
SUMMARY:"LAS AVENTURAS DE TITO EL TERO"
DESCRIPTION:Un viaje musical para los más pequeños «LAS AVENTURAS DE TITO EL TERO» espectáculo infantil de niños para niños\, con música\, movimiento y títeres!\nVení a disfrutar con nosotros para descubrir el misterio en la selva guaraní!\nSábado 17 de enero a las 18.00h en el Auditorio de la Gobernación de Itapua\, Encarnación.\nOrganiza: EducArt Centro Intercultural de Aprendizaje Musical Infantil\nAnticipadas: 30.000Gs\nEn puerta: 40.000Gs \nNo te pierdas esta oportunidad ven a disfrutar !!
URL:https://itapua.gov.py/evento/las-aventuras-de-tito-el-tero/
LOCATION:Auditorio de la Gobernación de Itapúa\, Av. Irrazabal y Reverchon\, Encarnación\, 6000\, Paraguay
CATEGORIES:Encarnación,Turismo
ATTACH;FMTTYPE=image/jpeg:https://itapua.gov.py/wp-content/uploads/2026/01/Avene3de4cb2-7572-4aa8-b863-dbeb4bfa7f2c-e1768585972198.jpg
END:VEVENT
END:VCALENDAR