BEGIN:VCALENDAR
VERSION:2.0
PRODID:-//Gobernación de Itapúa - ECPv6.15.20//NONSGML v1.0//EN
CALSCALE:GREGORIAN
METHOD:PUBLISH
X-ORIGINAL-URL:https://itapua.gov.py
X-WR-CALDESC:Eventos para Gobernación de Itapúa
REFRESH-INTERVAL;VALUE=DURATION:PT1H
X-Robots-Tag:noindex
X-PUBLISHED-TTL:PT1H
BEGIN:VTIMEZONE
TZID:UTC
BEGIN:STANDARD
TZOFFSETFROM:+0000
TZOFFSETTO:+0000
TZNAME:UTC
DTSTART:20250101T000000
END:STANDARD
END:VTIMEZONE
BEGIN:VEVENT
DTSTART;TZID=UTC:20260127T180000
DTEND;TZID=UTC:20260131T210000
DTSTAMP:20260419T160540
CREATED:20260108T121123Z
LAST-MODIFIED:20260108T180043Z
UID:33669-1769536800-1769893200@itapua.gov.py
SUMMARY:TALLER DE ACTUACIÓN PARA (PRINCIPIANTES Y AVANZADOS)
DESCRIPTION:La Academia ROCEMI invita a participar del Taller de Actuación para principiantes y avanzados dictado por el maestro @hannes_burginteatroactstudio \, un recorrido por diversas técnicas actorales y procesos creativos que culminará en una muestra escénica inspirada en cuentos del Paraguay.Fecha 27 al 31 de enero \nHora 18:00 a 21:00 \nLugar Academia Integral de Artes ROCEMI – Encarnación Inversión: 200.000 GsPromoción (2) personas o  amigos: 300.000 GsCupos limitados – Reserva tu lugar al 0983 007873
URL:https://itapua.gov.py/evento/taller-de-actuacion-para-principiantes-y-avanzados/
LOCATION:Academia Integral de Artes\, Mcal. Estigarribia y Jorge Memell\, Encarnación\, 6000\, Paraguay
CATEGORIES:Encarnación,Turismo
ATTACH;FMTTYPE=image/jpeg:https://itapua.gov.py/wp-content/uploads/2026/01/ROO611255731_1455391966591220_2901267294738496445_n-e1767874195902.jpg
END:VEVENT
BEGIN:VEVENT
DTSTART;TZID=UTC:20260129T180000
DTEND;TZID=UTC:20260129T210000
DTSTAMP:20260419T160540
CREATED:20260129T114320Z
LAST-MODIFIED:20260129T114320Z
UID:34077-1769709600-1769720400@itapua.gov.py
SUMMARY:NEUROMARKETING EN EL CAMPO URBANO DE LA UNAE.
DESCRIPTION:¡Participá de la Capacitación gratuita para MIPYMES! “Neuromarketing práctico ¿Cómo activar decisiones rápidas en tus clientes» Jueves 29 de enero \n18:00 horas Campus Urbano de la UNAE. Preinscripción: https://info.unae.edu.py/4ppRZmL Para más información\, comunicarse al (0985)638763 Ministerio de Industria y Comercio de Paraguay.
URL:https://itapua.gov.py/evento/neuromarketing-en-el-campo-urbano-de-la-unae/
LOCATION:Campus Urbano de la UNAE.\, Padre Kreusser entre Independencia Nacional y Honorio González\, Encarnación\, Encarnación\, 6000\, Paraguay
CATEGORIES:Encarnación,Turismo
ATTACH;FMTTYPE=image/jpeg:https://itapua.gov.py/wp-content/uploads/2026/01/MI621833226_1299064925593041_3093456890809185565_n-e1769686946637.jpg
END:VEVENT
END:VCALENDAR