BEGIN:VCALENDAR
VERSION:2.0
PRODID:-//Gobernación de Itapúa - ECPv6.15.20//NONSGML v1.0//EN
CALSCALE:GREGORIAN
METHOD:PUBLISH
X-ORIGINAL-URL:https://itapua.gov.py
X-WR-CALDESC:Eventos para Gobernación de Itapúa
REFRESH-INTERVAL;VALUE=DURATION:PT1H
X-Robots-Tag:noindex
X-PUBLISHED-TTL:PT1H
BEGIN:VTIMEZONE
TZID:UTC
BEGIN:STANDARD
TZOFFSETFROM:+0000
TZOFFSETTO:+0000
TZNAME:UTC
DTSTART:20250101T000000
END:STANDARD
END:VTIMEZONE
BEGIN:VEVENT
DTSTART;TZID=UTC:20260205T200000
DTEND;TZID=UTC:20260205T213000
DTSTAMP:20260419T172716
CREATED:20260119T131755Z
LAST-MODIFIED:20260119T131755Z
UID:33891-1770321600-1770327000@itapua.gov.py
SUMMARY:OBRA TEATRAL "UN ALMUERZO EN PAZ" DE GABRIEL FIORITO
DESCRIPTION:El Club de Teatro Rocemi te trae \n Un Almuerzo en Paz \nde Gabriel Fiorito\nFecha: Jueves 05 de febrero 2026\n\n\n\nÚnica función\nLugar\n Auditorio Paraná\n A partir de las 20:00 horas\n\n\n Entradas anticipadas: 25.000 Gs\n Boletería: 30.000 Gs\n\n\nUna comedia imperdible para reír\, emocionarse y disfrutar del teatro
URL:https://itapua.gov.py/evento/obra-teatral-un-almuerzo-en-paz-de-gabriel-fiorito/
LOCATION:Auditorio Paraná\, Mcal. Estigarribia y Jorge Memell\, Encarnación\, 6000\, Paraguay
CATEGORIES:Encarnación,Turismo
ATTACH;FMTTYPE=image/jpeg:https://itapua.gov.py/wp-content/uploads/2026/01/Obra617394955_18343891459234512_6585785308878267314_n-e1768828640280.jpg
END:VEVENT
END:VCALENDAR