BEGIN:VCALENDAR
VERSION:2.0
PRODID:-//Gobernación de Itapúa - ECPv6.15.20//NONSGML v1.0//EN
CALSCALE:GREGORIAN
METHOD:PUBLISH
X-WR-CALNAME:Gobernación de Itapúa
X-ORIGINAL-URL:https://itapua.gov.py
X-WR-CALDESC:Eventos para Gobernación de Itapúa
REFRESH-INTERVAL;VALUE=DURATION:PT1H
X-Robots-Tag:noindex
X-PUBLISHED-TTL:PT1H
BEGIN:VTIMEZONE
TZID:UTC
BEGIN:STANDARD
TZOFFSETFROM:+0000
TZOFFSETTO:+0000
TZNAME:UTC
DTSTART:20250101T000000
END:STANDARD
END:VTIMEZONE
BEGIN:VEVENT
DTSTART;TZID=UTC:20260206T210000
DTEND;TZID=UTC:20260228T233000
DTSTAMP:20260419T172705
CREATED:20260204T125548Z
LAST-MODIFIED:20260204T125548Z
UID:34192-1770411600-1772321400@itapua.gov.py
SUMMARY:CASINO CARNAVAL NUESTRA CARTELERA DE FEBRERO 2026 SHOW EN VIVO
DESCRIPTION:Nuestra Cartelera de los Viernes y Sábados\nNoches para disfrutar  Este mes\, el escenario de Casino Carnaval se llena de shows en vivo para disfrutar la noche con emoción\, buena energía y grandes momentos.\n\n\n Realiza tus reservas al +595 993 288 401
URL:https://itapua.gov.py/evento/casino-carnaval-nuestra-cartelera-de-febrero-2026-show-en-vivo/
LOCATION:Casino Carnaval\, Avda. Irrazabal y Gral Cabañas\, Encarnación\, 6000\, Paraguay
CATEGORIES:Encarnación,Turismo
ATTACH;FMTTYPE=image/jpeg:https://itapua.gov.py/wp-content/uploads/2026/02/CAR627653070_17924672496234125_8751861210549959616_n-e1770209368103.jpg
END:VEVENT
BEGIN:VEVENT
DTSTART;TZID=UTC:20260213T180000
DTEND;TZID=UTC:20260213T223000
DTSTAMP:20260419T172705
CREATED:20260209T164945Z
LAST-MODIFIED:20260209T164945Z
UID:34292-1771005600-1771021800@itapua.gov.py
SUMMARY:FIESTA DE LOS PUEBLOS 2026
DESCRIPTION:Tenemos el placer de invitarle a ser parte de la 5ta. Edición de la «Fiesta de los Pueblos»\nun encuentro donde la cultura\, la historia y la creatividad se entrelazan en un escenario único. \n📅 Viernes 13 de febrero\n🕖 18:00 horas\n📍 Réplica de la Estación del Ferrocarril Encarnación \nViví una experiencia que celebra nuestras raíces\, la cultura y el talento con sello propio. \nTurismo Itapúa\nItapúa lugar de oportunidades\nJavier Pereira Gobernador\nFiesta de los pueblos\nJica
URL:https://itapua.gov.py/evento/fiesta-de-los-pueblos-2026/
LOCATION:Réplica de la Estación del ferrocarril\, Avda. Costanera Rca. del Py.\, Encarnación\, 6000\, Paraguay
CATEGORIES:Encarnación,Turismo
ATTACH;FMTTYPE=image/jpeg:https://itapua.gov.py/wp-content/uploads/2026/02/pueBca41630b-93a2-4c23-aa00-b970791054b8-e1770654932591.jpg
END:VEVENT
BEGIN:VEVENT
DTSTART;TZID=UTC:20260213T213000
DTEND;TZID=UTC:20260214T233000
DTSTAMP:20260419T172705
CREATED:20260210T175252Z
LAST-MODIFIED:20260210T175252Z
UID:34340-1771018200-1771111800@itapua.gov.py
SUMMARY:SHOW EN VIVO EN CASINO CARNAVAL
DESCRIPTION:Se viene un fin de semana imperdible en Casino Carnaval Celebra la semana del amor con dos noches de música en vivo. Viernes: Richar Caballero Sábado: Carlos Montalvo – Día de los EnamoradosRealiza tus reservas al  +595 993 288 401
URL:https://itapua.gov.py/evento/show-en-vivo-en-casino-carnaval/
LOCATION:Hotel Casino Carnaval\, Avda. Irrazabal y Gral Cabañas\, Encarnación\, 6000\, Paraguay
CATEGORIES:Encarnación,Turismo
ATTACH;FMTTYPE=image/jpeg:https://itapua.gov.py/wp-content/uploads/2026/02/CAS628139639_1417138973790540_1692254114308661219_n-e1770745957118.jpg
END:VEVENT
END:VCALENDAR