BEGIN:VCALENDAR
VERSION:2.0
PRODID:-//Gobernación de Itapúa - ECPv6.15.20//NONSGML v1.0//EN
CALSCALE:GREGORIAN
METHOD:PUBLISH
X-WR-CALNAME:Gobernación de Itapúa
X-ORIGINAL-URL:https://itapua.gov.py
X-WR-CALDESC:Eventos para Gobernación de Itapúa
REFRESH-INTERVAL;VALUE=DURATION:PT1H
X-Robots-Tag:noindex
X-PUBLISHED-TTL:PT1H
BEGIN:VTIMEZONE
TZID:UTC
BEGIN:STANDARD
TZOFFSETFROM:+0000
TZOFFSETTO:+0000
TZNAME:UTC
DTSTART:20250101T000000
END:STANDARD
END:VTIMEZONE
BEGIN:VEVENT
DTSTART;TZID=UTC:20260206T210000
DTEND;TZID=UTC:20260228T233000
DTSTAMP:20260419T172709
CREATED:20260204T125548Z
LAST-MODIFIED:20260204T125548Z
UID:34192-1770411600-1772321400@itapua.gov.py
SUMMARY:CASINO CARNAVAL NUESTRA CARTELERA DE FEBRERO 2026 SHOW EN VIVO
DESCRIPTION:Nuestra Cartelera de los Viernes y Sábados\nNoches para disfrutar  Este mes\, el escenario de Casino Carnaval se llena de shows en vivo para disfrutar la noche con emoción\, buena energía y grandes momentos.\n\n\n Realiza tus reservas al +595 993 288 401
URL:https://itapua.gov.py/evento/casino-carnaval-nuestra-cartelera-de-febrero-2026-show-en-vivo/
LOCATION:Casino Carnaval\, Avda. Irrazabal y Gral Cabañas\, Encarnación\, 6000\, Paraguay
CATEGORIES:Encarnación,Turismo
ATTACH;FMTTYPE=image/jpeg:https://itapua.gov.py/wp-content/uploads/2026/02/CAR627653070_17924672496234125_8751861210549959616_n-e1770209368103.jpg
END:VEVENT
BEGIN:VEVENT
DTSTART;TZID=UTC:20260228T153000
DTEND;TZID=UTC:20260228T173000
DTSTAMP:20260419T172709
CREATED:20260226T165251Z
LAST-MODIFIED:20260226T165251Z
UID:34785-1772292600-1772299800@itapua.gov.py
SUMMARY:TEATRO O CINE
DESCRIPTION:Si alguna vez soñaste con subir a un escenario\, actuar frente a cámara\, Dirigir tu propia película o descubrir el artista que llevás dentro… esta es tu oportunidad Te invitamos a vivir una Clase Abierta y Gratuita en la Academia ROCEMI\, donde vas a experimentar cómo trabajamos\, cómo se forman nuestros alumnos y todo lo que podés lograr cuando te animás. No importa si tenés experiencia o no. No importa la edad. Solo importa que tengas ganas de descubrir algo nuevo. Sábado 28 de febrero 15:30 horas En la Academia ROCEMI
URL:https://itapua.gov.py/evento/teatro-o-cine/
LOCATION:Academia Rocemi\, Mcal. Estigarribia y Jorge Memell\, Encarnación\, 6000\, Paraguay
CATEGORIES:Encarnación,Turismo
ATTACH;FMTTYPE=image/jpeg:https://itapua.gov.py/wp-content/uploads/2026/02/ROCE640561959_1498982602232156_4452488032706216086_n-e1772124639418.jpg
END:VEVENT
BEGIN:VEVENT
DTSTART;TZID=UTC:20260228T190000
DTEND;TZID=UTC:20260228T220000
DTSTAMP:20260419T172709
CREATED:20260227T180553Z
LAST-MODIFIED:20260227T180553Z
UID:34816-1772305200-1772316000@itapua.gov.py
SUMMARY:NATSUMSTSURI 2026
DESCRIPTION:Te esperamos en nuestro tradicional fiesta de Natsumatsuri 2026 \nen la Asociación japonesa de Encarnación\, No faltes
URL:https://itapua.gov.py/evento/natsumstsuri-2026/
LOCATION:Asociación Japonesa\, Encarnación\, 6000\, Paraguay
CATEGORIES:Encarnación,Turismo
ATTACH;FMTTYPE=image/jpeg:https://itapua.gov.py/wp-content/uploads/2026/02/AN5b3194a5-f13f-41ab-951b-fcd83b4d948b-e1772215070576.jpg
END:VEVENT
BEGIN:VEVENT
DTSTART;TZID=UTC:20260228T190000
DTEND;TZID=UTC:20260228T230000
DTSTAMP:20260419T172709
CREATED:20260204T121738Z
LAST-MODIFIED:20260204T121738Z
UID:34186-1772305200-1772319600@itapua.gov.py
SUMMARY:NATSUMATSURI FIESTA DE VERANO 2026
DESCRIPTION:Ya llega el momento más esperado del año\, estamos trabajando para ofrecerles\, la mejor \nvariedad de nuestros productos\, mostrando nuestra cultura \nNATSUMATSURI 2026 \, en la Asociación Japonesa de Encarnación. \nmas información al: +595 985 729970.-
URL:https://itapua.gov.py/evento/natsumatsuri-fiesta-de-verano-2026/
LOCATION:Cancha de la Asociación Japonesa\, Avda. Irrazábal c/ Aquidaban B° Buena Vista\, Encarnación\, 6000\, Paraguay
CATEGORIES:Encarnación,Turismo
ATTACH;FMTTYPE=image/jpeg:https://itapua.gov.py/wp-content/uploads/2026/02/Jap7737c649-5e11-44c0-8053-4fe64224e414-e1770207385326.jpg
END:VEVENT
BEGIN:VEVENT
DTSTART;TZID=UTC:20260228T220000
DTEND;TZID=UTC:20260228T233000
DTSTAMP:20260419T172709
CREATED:20260226T173721Z
LAST-MODIFIED:20260226T173721Z
UID:34796-1772316000-1772321400@itapua.gov.py
SUMMARY:SHOW EN VIVO CON BRISAS DEL PARANÁ
DESCRIPTION:Que el sábado se sienta diferente \n Brisas del Paraná llega con su Live Show para llenar de ritmo este sábado 28 de febrero.\n¡El plan ideal te espera en Casino Carnaval!
URL:https://itapua.gov.py/evento/show-en-vivo-con-brisas-del-parana/
LOCATION:Casino Carnaval\, Avda. Irrazabal y Gral Cabañas\, Encarnación\, 6000\, Paraguay
CATEGORIES:Encarnación,Turismo
ATTACH;FMTTYPE=image/jpeg:https://itapua.gov.py/wp-content/uploads/2026/02/CAR643338137_1436419485195822_2236737326730148489_n-e1772127430797.jpg
END:VEVENT
END:VCALENDAR