BEGIN:VCALENDAR
VERSION:2.0
PRODID:-//Gobernación de Itapúa - ECPv6.15.20//NONSGML v1.0//EN
CALSCALE:GREGORIAN
METHOD:PUBLISH
X-WR-CALNAME:Gobernación de Itapúa
X-ORIGINAL-URL:https://itapua.gov.py
X-WR-CALDESC:Eventos para Gobernación de Itapúa
REFRESH-INTERVAL;VALUE=DURATION:PT1H
X-Robots-Tag:noindex
X-PUBLISHED-TTL:PT1H
BEGIN:VTIMEZONE
TZID:UTC
BEGIN:STANDARD
TZOFFSETFROM:+0000
TZOFFSETTO:+0000
TZNAME:UTC
DTSTART:20250101T000000
END:STANDARD
END:VTIMEZONE
BEGIN:VEVENT
DTSTART;TZID=UTC:20260303T160000
DTEND;TZID=UTC:20260303T180000
DTSTAMP:20260421T102523
CREATED:20260211T121652Z
LAST-MODIFIED:20260211T121652Z
UID:34425-1772553600-1772560800@itapua.gov.py
SUMMARY:TEATRO\, CINE\, JUEGO\, CREATIVIDAD Y MUCHA DIVERSIÓN
DESCRIPTION:Inscripciones abiertas!\nActuación para niños de 2 a 8 años.\nTeatro\, cine\, juego\, creatividad y mucha diversión \n Inicio: 3 de marzo 2026\nHORARIOS\nMartes de 16:00 a 18:00\nJueves de 17:300 a 19:30
URL:https://itapua.gov.py/evento/teatro-cine-juego-creatividad-y-mucha-diversion/
LOCATION:Academia Integral de Arte ROCEMI\, Mcal. Estigarribia y Jorge Memell\, Encarnación\, 6000\, Paraguay
CATEGORIES:Encarnación,Turismo
ATTACH;FMTTYPE=image/jpeg:https://itapua.gov.py/wp-content/uploads/2026/02/ROce630335764_18347816605234512_620900734288440033_n.jpg
END:VEVENT
END:VCALENDAR