BEGIN:VCALENDAR
VERSION:2.0
PRODID:-//Gobernación de Itapúa - ECPv6.15.20//NONSGML v1.0//EN
CALSCALE:GREGORIAN
METHOD:PUBLISH
X-ORIGINAL-URL:https://itapua.gov.py
X-WR-CALDESC:Eventos para Gobernación de Itapúa
REFRESH-INTERVAL;VALUE=DURATION:PT1H
X-Robots-Tag:noindex
X-PUBLISHED-TTL:PT1H
BEGIN:VTIMEZONE
TZID:UTC
BEGIN:STANDARD
TZOFFSETFROM:+0000
TZOFFSETTO:+0000
TZNAME:UTC
DTSTART:20250101T000000
END:STANDARD
END:VTIMEZONE
BEGIN:VEVENT
DTSTART;TZID=UTC:20260410T223000
DTEND;TZID=UTC:20260410T230000
DTSTAMP:20260421T085320
CREATED:20260409T121615Z
LAST-MODIFIED:20260409T121615Z
UID:35272-1775860200-1775862000@itapua.gov.py
SUMMARY:SHOWS EN VIVO DE LOS VIERNES EN CASINO CARNAVAL
DESCRIPTION:Shows en vivo\, ritmo y energía que se siente desde que llegas \n\n\nEn Casino Carnaval\, cada fin de semana se vive diferente \n\n\nElegí tu plan y disfrutá al máximo.\n Reservas al +595 993 288 401
URL:https://itapua.gov.py/evento/shows-en-vivo-de-los-viernes-en-casino-carnaval/
LOCATION:Hotel y Restauran Casino Carnaval\, Avda. Irrazabal y Gral Cabañas\, 6000\, Paraguay
CATEGORIES:Encarnación,Turismo
ATTACH;FMTTYPE=image/jpeg:https://itapua.gov.py/wp-content/uploads/2026/04/Car662346225_17933832372234125_3893899391270777819_n.jpg
END:VEVENT
END:VCALENDAR