BEGIN:VCALENDAR
VERSION:2.0
PRODID:-//Gobernación de Itapúa - ECPv6.15.20//NONSGML v1.0//EN
CALSCALE:GREGORIAN
METHOD:PUBLISH
X-ORIGINAL-URL:https://itapua.gov.py
X-WR-CALDESC:Eventos para Gobernación de Itapúa
REFRESH-INTERVAL;VALUE=DURATION:PT1H
X-Robots-Tag:noindex
X-PUBLISHED-TTL:PT1H
BEGIN:VTIMEZONE
TZID:UTC
BEGIN:STANDARD
TZOFFSETFROM:+0000
TZOFFSETTO:+0000
TZNAME:UTC
DTSTART:20250101T000000
END:STANDARD
END:VTIMEZONE
BEGIN:VEVENT
DTSTART;TZID=UTC:20260401T090000
DTEND;TZID=UTC:20260430T170000
DTSTAMP:20260421T125843
CREATED:20260330T160630Z
LAST-MODIFIED:20260330T160630Z
UID:35220-1775034000-1777568400@itapua.gov.py
SUMMARY:OFICINA DE INFORMACIÓN
DESCRIPTION:  \nLa oficina de información Turística de Santísima Trinidad se encuentra a 30km. de Encarnación en el km. 22 de la ruta Py06 Trinidad \nel horario de atención es de 09:00 a 17:00 de lunes a viernes. \nQui estamos para darte más información no lo dudes ben visitarnos. \n 
URL:https://itapua.gov.py/evento/oficina-de-informacion/
LOCATION:Santísima Trinidad\, Ruta Py 06 Km.22\, Trinidad\, 6000\, Paraguay
CATEGORIES:Turismo
ATTACH;FMTTYPE=image/jpeg:https://itapua.gov.py/wp-content/uploads/2026/03/Senb104f772-36c1-4248-965b-c39b2d8798ce-e1774882596408.jpg
END:VEVENT
END:VCALENDAR